BEGIN:VCALENDAR
VERSION:2.0
PRODID:-//SpacePolicyOnline.com - ECPv6.15.11//NONSGML v1.0//EN
CALSCALE:GREGORIAN
METHOD:PUBLISH
X-WR-CALNAME:SpacePolicyOnline.com
X-ORIGINAL-URL:https://spacepolicyonline.com
X-WR-CALDESC:Events for SpacePolicyOnline.com
REFRESH-INTERVAL;VALUE=DURATION:PT1H
X-Robots-Tag:noindex
X-PUBLISHED-TTL:PT1H
BEGIN:VTIMEZONE
TZID:America/New_York
BEGIN:DAYLIGHT
TZOFFSETFROM:-0500
TZOFFSETTO:-0400
TZNAME:EDT
DTSTART:20220313T070000
END:DAYLIGHT
BEGIN:STANDARD
TZOFFSETFROM:-0400
TZOFFSETTO:-0500
TZNAME:EST
DTSTART:20221106T060000
END:STANDARD
BEGIN:DAYLIGHT
TZOFFSETFROM:-0500
TZOFFSETTO:-0400
TZNAME:EDT
DTSTART:20230312T070000
END:DAYLIGHT
BEGIN:STANDARD
TZOFFSETFROM:-0400
TZOFFSETTO:-0500
TZNAME:EST
DTSTART:20231105T060000
END:STANDARD
BEGIN:DAYLIGHT
TZOFFSETFROM:-0500
TZOFFSETTO:-0400
TZNAME:EDT
DTSTART:20240310T070000
END:DAYLIGHT
BEGIN:STANDARD
TZOFFSETFROM:-0400
TZOFFSETTO:-0500
TZNAME:EST
DTSTART:20241103T060000
END:STANDARD
END:VTIMEZONE
BEGIN:VEVENT
DTSTART;TZID=America/New_York:20230108T073000
DTEND;TZID=America/New_York:20230112T230000
DTSTAMP:20260422T072354
CREATED:20220808T172619Z
LAST-MODIFIED:20220808T172619Z
UID:55485-1673163000-1673564400@spacepolicyonline.com
SUMMARY:103rd AMERICAN METEOROLOGICAL SOCIETY ANNUAL MEETING\, Jan 8-12\, 2023\, Denver\, CO/virtual
DESCRIPTION:The 2023 annual meeting of the American Meteorological Society (AMS) will take place at the Colorado Convention Center in Denver\, CO and online from January 8-12\, 2023. \nThe theme this year is “Data: Driving Science. Informing Decisions. Enriching Humanity.” \nMore information is on the event’s website.
URL:https://spacepolicyonline.com/events/103rd-american-meteorological-society-annual-meeting-jan-8-12-2023-denver-co-virtual/
END:VEVENT
END:VCALENDAR