BEGIN:VCALENDAR
VERSION:2.0
PRODID:-//SpacePolicyOnline.com - ECPv6.15.11//NONSGML v1.0//EN
CALSCALE:GREGORIAN
METHOD:PUBLISH
X-WR-CALNAME:SpacePolicyOnline.com
X-ORIGINAL-URL:https://spacepolicyonline.com
X-WR-CALDESC:Events for SpacePolicyOnline.com
REFRESH-INTERVAL;VALUE=DURATION:PT1H
X-Robots-Tag:noindex
X-PUBLISHED-TTL:PT1H
BEGIN:VTIMEZONE
TZID:America/New_York
BEGIN:DAYLIGHT
TZOFFSETFROM:-0500
TZOFFSETTO:-0400
TZNAME:EDT
DTSTART:20180311T070000
END:DAYLIGHT
BEGIN:STANDARD
TZOFFSETFROM:-0400
TZOFFSETTO:-0500
TZNAME:EST
DTSTART:20181104T060000
END:STANDARD
BEGIN:DAYLIGHT
TZOFFSETFROM:-0500
TZOFFSETTO:-0400
TZNAME:EDT
DTSTART:20190310T070000
END:DAYLIGHT
BEGIN:STANDARD
TZOFFSETFROM:-0400
TZOFFSETTO:-0500
TZNAME:EST
DTSTART:20191103T060000
END:STANDARD
BEGIN:DAYLIGHT
TZOFFSETFROM:-0500
TZOFFSETTO:-0400
TZNAME:EDT
DTSTART:20200308T070000
END:DAYLIGHT
BEGIN:STANDARD
TZOFFSETFROM:-0400
TZOFFSETTO:-0500
TZNAME:EST
DTSTART:20201101T060000
END:STANDARD
END:VTIMEZONE
BEGIN:VEVENT
DTSTART;TZID=America/New_York:20190103T080000
DTEND;TZID=America/New_York:20190103T230000
DTSTAMP:20260420T083239
CREATED:20181216T151903Z
LAST-MODIFIED:20181216T151903Z
UID:22787-1546502400-1546556400@spacepolicyonline.com
SUMMARY:116th CONGRESS CONVENES\, Jan 3\, 2019
DESCRIPTION:The 116th Congress will convene on January 3\, 2019. \nAs of December 16\, 2018\, the plans is for the House and Senate to meet on January 3 (a Thursday) to begin the new Congress.  The House will also meet on January 4\, but the Senate will recess until January 8. \nIn the 116th Congress\, Democrats will control the House\, with 235 Democrats\, 199 Republicans\, and one race still undecided amidst fraud allegations. \nRepublicans will continue to control the Senate\, with 53 Republicans and 47 Democrats (two of whom are Independents — Bernie Sanders of Vermont and Angus King of Maine — but caucus with the Democrats). \n 
URL:https://spacepolicyonline.com/events/116th-congress-convenes-jan-3-2019/
END:VEVENT
END:VCALENDAR