BEGIN:VCALENDAR
VERSION:2.0
PRODID:-//SpacePolicyOnline.com - ECPv6.15.11//NONSGML v1.0//EN
CALSCALE:GREGORIAN
METHOD:PUBLISH
X-WR-CALNAME:SpacePolicyOnline.com
X-ORIGINAL-URL:https://spacepolicyonline.com
X-WR-CALDESC:Events for SpacePolicyOnline.com
REFRESH-INTERVAL;VALUE=DURATION:PT1H
X-Robots-Tag:noindex
X-PUBLISHED-TTL:PT1H
BEGIN:VTIMEZONE
TZID:America/New_York
BEGIN:DAYLIGHT
TZOFFSETFROM:-0500
TZOFFSETTO:-0400
TZNAME:EDT
DTSTART:20240310T070000
END:DAYLIGHT
BEGIN:STANDARD
TZOFFSETFROM:-0400
TZOFFSETTO:-0500
TZNAME:EST
DTSTART:20241103T060000
END:STANDARD
BEGIN:DAYLIGHT
TZOFFSETFROM:-0500
TZOFFSETTO:-0400
TZNAME:EDT
DTSTART:20250309T070000
END:DAYLIGHT
BEGIN:STANDARD
TZOFFSETFROM:-0400
TZOFFSETTO:-0500
TZNAME:EST
DTSTART:20251102T060000
END:STANDARD
BEGIN:DAYLIGHT
TZOFFSETFROM:-0500
TZOFFSETTO:-0400
TZNAME:EDT
DTSTART:20260308T070000
END:DAYLIGHT
BEGIN:STANDARD
TZOFFSETFROM:-0400
TZOFFSETTO:-0500
TZNAME:EST
DTSTART:20261101T060000
END:STANDARD
END:VTIMEZONE
BEGIN:VEVENT
DTSTART;TZID=America/New_York:20250103T120000
DTEND;TZID=America/New_York:20250103T230000
DTSTAMP:20260420T085832
CREATED:20241222T211250Z
LAST-MODIFIED:20250102T215435Z
UID:76814-1735905600-1735945200@spacepolicyonline.com
SUMMARY:119th CONGRESS CONVENES\, Jan 3\, 2025\, DC\, 12:00 pm ET
DESCRIPTION:Update\, January 2:  House Majority Leader Steve Scalise has issued the schedule for tomorrow. \nThe House will convene at 11:00 am ET to complete 118th Congress legislative business and adjourn sine die. (“Sine die” is Latin for “without a day” meaning the House will adjourn without a day to return\, which means it is ending.) \nThe 119th Congress will meet at 12:00 pm ET with a recorded quorum call following the Prayer and Pledge of Allegiance. \nThe House will then proceed with election of the Speaker of the House.  (That takes place before the Members are sworn in\, so they are Members-elect at that point.) \nOnce a Speaker is chosen\, the Speaker will swear in the other Members as well as the Delegates from American Samoa\,  District of Columbia\, Guam\, the Northern Mariana Islands\, and U.S. Virgin Islands\, and the Resident Commissioner from Puerto Rico. \nOriginal Entry: The 119th Congress will convene in the U.S. Capitol at noon on January 3\, 2025. \nThe House and Senate schedules for 2025 are as follows: \nDates in yellow are the days the House is in session.\nDates in red are federal holidays. Dates in yellow are days the Senate is in session.
URL:https://spacepolicyonline.com/events/119th-congress-convenes-jan-3-2025-dc-1200-pm-et/
END:VEVENT
END:VCALENDAR