BEGIN:VCALENDAR
VERSION:2.0
PRODID:-//SpacePolicyOnline.com - ECPv6.15.11//NONSGML v1.0//EN
CALSCALE:GREGORIAN
METHOD:PUBLISH
X-WR-CALNAME:SpacePolicyOnline.com
X-ORIGINAL-URL:https://spacepolicyonline.com
X-WR-CALDESC:Events for SpacePolicyOnline.com
REFRESH-INTERVAL;VALUE=DURATION:PT1H
X-Robots-Tag:noindex
X-PUBLISHED-TTL:PT1H
BEGIN:VTIMEZONE
TZID:America/New_York
BEGIN:DAYLIGHT
TZOFFSETFROM:-0500
TZOFFSETTO:-0400
TZNAME:EDT
DTSTART:20200308T070000
END:DAYLIGHT
BEGIN:STANDARD
TZOFFSETFROM:-0400
TZOFFSETTO:-0500
TZNAME:EST
DTSTART:20201101T060000
END:STANDARD
BEGIN:DAYLIGHT
TZOFFSETFROM:-0500
TZOFFSETTO:-0400
TZNAME:EDT
DTSTART:20210314T070000
END:DAYLIGHT
BEGIN:STANDARD
TZOFFSETFROM:-0400
TZOFFSETTO:-0500
TZNAME:EST
DTSTART:20211107T060000
END:STANDARD
BEGIN:DAYLIGHT
TZOFFSETFROM:-0500
TZOFFSETTO:-0400
TZNAME:EDT
DTSTART:20220313T070000
END:DAYLIGHT
BEGIN:STANDARD
TZOFFSETFROM:-0400
TZOFFSETTO:-0500
TZNAME:EST
DTSTART:20221106T060000
END:STANDARD
END:VTIMEZONE
BEGIN:VEVENT
DTSTART;TZID=America/New_York:20210428T073000
DTEND;TZID=America/New_York:20210429T170000
DTSTAMP:20260420T100810
CREATED:20210425T185944Z
LAST-MODIFIED:20210425T185944Z
UID:43349-1619595000-1619715600@spacepolicyonline.com
SUMMARY:16th MILITARY SPACE SITUATIONAL AWARENESS (SMi)\, Apr 28-29\, 2021\, virtual
DESCRIPTION:SMi will hold the 16th annual Military Space Situational Awareness conference from April 28-29\, 2021. It will take place virtually. \nNote that all times on the agenda are British Summer Time (subtract 5 for Eastern Daylight Time). \nMore information is on the event’s website\, which says: \nAs the leading conference in Europe dedicated to space domain awareness\, this year’s forum will once again bring together key stakeholders across the military\, government and industry sectors to discuss how we build a collaborative approach to space management and Space Situational Awareness (SSA) as well as how we balance operational necessity with responsible use of space. \nSimilarly\, as new LEO mega-constellations come online at an increasing rate\, avoiding a repeat of the 2009 Iridium crash remains at the forefront of all industry professionals’ minds as we attempt to ensure that necessary and responsible space exploration and development can continue for years to come. \nKey focuses include space domain awareness\, space surveillance and tracking (SST)\, the new US Space Force’s approach to SSA\, the impact of new mega-constellations\, and international partnerships in space. \n  \n 
URL:https://spacepolicyonline.com/events/16th-military-space-situational-awareness-smi-apr-28-29-2021-virtual/
END:VEVENT
END:VCALENDAR