BEGIN:VCALENDAR
VERSION:2.0
PRODID:-//SpacePolicyOnline.com - ECPv6.15.11//NONSGML v1.0//EN
CALSCALE:GREGORIAN
METHOD:PUBLISH
X-WR-CALNAME:SpacePolicyOnline.com
X-ORIGINAL-URL:https://spacepolicyonline.com
X-WR-CALDESC:Events for SpacePolicyOnline.com
REFRESH-INTERVAL;VALUE=DURATION:PT1H
X-Robots-Tag:noindex
X-PUBLISHED-TTL:PT1H
BEGIN:VTIMEZONE
TZID:America/New_York
BEGIN:DAYLIGHT
TZOFFSETFROM:-0500
TZOFFSETTO:-0400
TZNAME:EDT
DTSTART:20200308T070000
END:DAYLIGHT
BEGIN:STANDARD
TZOFFSETFROM:-0400
TZOFFSETTO:-0500
TZNAME:EST
DTSTART:20201101T060000
END:STANDARD
BEGIN:DAYLIGHT
TZOFFSETFROM:-0500
TZOFFSETTO:-0400
TZNAME:EDT
DTSTART:20210314T070000
END:DAYLIGHT
BEGIN:STANDARD
TZOFFSETFROM:-0400
TZOFFSETTO:-0500
TZNAME:EST
DTSTART:20211107T060000
END:STANDARD
BEGIN:DAYLIGHT
TZOFFSETFROM:-0500
TZOFFSETTO:-0400
TZNAME:EDT
DTSTART:20220313T070000
END:DAYLIGHT
BEGIN:STANDARD
TZOFFSETFROM:-0400
TZOFFSETTO:-0500
TZNAME:EST
DTSTART:20221106T060000
END:STANDARD
END:VTIMEZONE
BEGIN:VEVENT
DTSTART;TZID=America/New_York:20211103T073000
DTEND;TZID=America/New_York:20211106T230000
DTSTAMP:20260420T182119
CREATED:20210921T175617Z
LAST-MODIFIED:20211031T170351Z
UID:46910-1635924600-1636239600@spacepolicyonline.com
SUMMARY:2021 AMER SOC FOR GRAVITATIONAL AND SPACE RESEARCH (ASGSR) CONFERENCE\, Nov 3-6\, 2021\, Baltimore\, MD (some sessions livestreamed)
DESCRIPTION:The American Society for Gravitational and Space Research (ASGSR) will hold its annual conference in-person from November 3-6\, 2021 at the Baltimore Hilton Inner Harbor Hotel\, Baltimore\, MD. \nMore information is on the event’s website. \nSome plenary and other sessions will be livestreamed. Registration for the conference is not necessary to watch the livestreams.  The list and links to watch are on the ASGSR website.
URL:https://spacepolicyonline.com/events/2021-amer-soc-for-gravitational-and-space-research-asgsr-conference-nov-3-6-2021-baltimore-md/
END:VEVENT
END:VCALENDAR