BEGIN:VCALENDAR
VERSION:2.0
PRODID:-//SpacePolicyOnline.com - ECPv6.15.11//NONSGML v1.0//EN
CALSCALE:GREGORIAN
METHOD:PUBLISH
X-WR-CALNAME:SpacePolicyOnline.com
X-ORIGINAL-URL:https://spacepolicyonline.com
X-WR-CALDESC:Events for SpacePolicyOnline.com
REFRESH-INTERVAL;VALUE=DURATION:PT1H
X-Robots-Tag:noindex
X-PUBLISHED-TTL:PT1H
BEGIN:VTIMEZONE
TZID:America/New_York
BEGIN:DAYLIGHT
TZOFFSETFROM:-0500
TZOFFSETTO:-0400
TZNAME:EDT
DTSTART:20210314T070000
END:DAYLIGHT
BEGIN:STANDARD
TZOFFSETFROM:-0400
TZOFFSETTO:-0500
TZNAME:EST
DTSTART:20211107T060000
END:STANDARD
BEGIN:DAYLIGHT
TZOFFSETFROM:-0500
TZOFFSETTO:-0400
TZNAME:EDT
DTSTART:20220313T070000
END:DAYLIGHT
BEGIN:STANDARD
TZOFFSETFROM:-0400
TZOFFSETTO:-0500
TZNAME:EST
DTSTART:20221106T060000
END:STANDARD
BEGIN:DAYLIGHT
TZOFFSETFROM:-0500
TZOFFSETTO:-0400
TZNAME:EDT
DTSTART:20230312T070000
END:DAYLIGHT
BEGIN:STANDARD
TZOFFSETFROM:-0400
TZOFFSETTO:-0500
TZNAME:EST
DTSTART:20231105T060000
END:STANDARD
END:VTIMEZONE
BEGIN:VEVENT
DTSTART;TZID=America/New_York:20220216T080000
DTEND;TZID=America/New_York:20220217T230000
DTSTAMP:20260419T235127
CREATED:20210322T195651Z
LAST-MODIFIED:20220120T183753Z
UID:42494-1644998400-1645138800@spacepolicyonline.com
SUMMARY:24th FAA COMMERCIAL SPACE TRANSPORTATION CONFERENCE\, Feb 16-17\, 2022\, DC
DESCRIPTION:Update\, January 20\, 2022:  The registration website\, which includes the agenda\, is now active.  It is still scheduled as an in-person meeting at the Ronald Reagan Building in Washington D.C.\, with the following statement regarding COVID: \n*Please Note: CST 2022 will follow CDC and District of Columbia regulations and require proof of vaccination and compliance with mask mandates. \nUpdate\, September 14\, 2021:  The CSF is postponing this conference until February 16-17\, 2022 because of the COVID resurgence. \nDear CSF Friends\, \nWe regret to inform you that due to the worsening condition of COVID and increasing government travel restrictions\, we are postponing the 24th Annual FAA Commercial Space Transportation Conference until February 16th and 17th\, 2022 at the Ronald Reagan Center in Washington DC. We believe a February 2022 date will better serve attendees\, speakers\, media\, sponsors\, and all other stakeholders involved. \nCSF will transfer all registrations to the February dates. If you would like to proceed differently\, please let us know by emailing katherine@commercialspaceflight.org. \nBest regards\, and we look forward to seeing you in February 2022! \nThe CSF Team \n  \nOriginal Entry: The Commercial Spaceflight Federation issued a Save the Date notice on March 22\, 2021 with the dates for the 24th FAA Commercial Space Transportation Conference:  November 3-4\, 2021.  It is currently scheduled to take place at the Ronald Reagan Center in Washington\, DC\, but that could change depending on the pandemic situation. \nMore information will be available later.
URL:https://spacepolicyonline.com/events/2021-faa-commercial-space-transportation-conference-nov-3-4-2021/
END:VEVENT
END:VCALENDAR