BEGIN:VCALENDAR
VERSION:2.0
PRODID:-//SpacePolicyOnline.com - ECPv6.15.11//NONSGML v1.0//EN
CALSCALE:GREGORIAN
METHOD:PUBLISH
X-WR-CALNAME:SpacePolicyOnline.com
X-ORIGINAL-URL:https://spacepolicyonline.com
X-WR-CALDESC:Events for SpacePolicyOnline.com
REFRESH-INTERVAL;VALUE=DURATION:PT1H
X-Robots-Tag:noindex
X-PUBLISHED-TTL:PT1H
BEGIN:VTIMEZONE
TZID:America/New_York
BEGIN:DAYLIGHT
TZOFFSETFROM:-0500
TZOFFSETTO:-0400
TZNAME:EDT
DTSTART:20210314T070000
END:DAYLIGHT
BEGIN:STANDARD
TZOFFSETFROM:-0400
TZOFFSETTO:-0500
TZNAME:EST
DTSTART:20211107T060000
END:STANDARD
BEGIN:DAYLIGHT
TZOFFSETFROM:-0500
TZOFFSETTO:-0400
TZNAME:EDT
DTSTART:20220313T070000
END:DAYLIGHT
BEGIN:STANDARD
TZOFFSETFROM:-0400
TZOFFSETTO:-0500
TZNAME:EST
DTSTART:20221106T060000
END:STANDARD
BEGIN:DAYLIGHT
TZOFFSETFROM:-0500
TZOFFSETTO:-0400
TZNAME:EDT
DTSTART:20230312T070000
END:DAYLIGHT
BEGIN:STANDARD
TZOFFSETFROM:-0400
TZOFFSETTO:-0500
TZNAME:EST
DTSTART:20231105T060000
END:STANDARD
END:VTIMEZONE
BEGIN:VEVENT
DTSTART;TZID=America/New_York:20221024T073000
DTEND;TZID=America/New_York:20221026T230000
DTSTAMP:20260424T005820
CREATED:20220808T164549Z
LAST-MODIFIED:20221023T162330Z
UID:55469-1666596600-1666825200@spacepolicyonline.com
SUMMARY:2022 ASCEND (AIAA)\, Oct 24-26\, 2022\, Las Vegas\, NV/virtual
DESCRIPTION:The American Institute of Aeronautics and Astronautics (AIAA) will hold its second Accelerating Space Commerce\, Exploration\, and New Discovery (ASCEND) conference\, 2022 ASCEND\, from October 24-26\, 2022 in Las Vegas\, NV and online. \nMore information is on the event’s website. \nA NASA press release lists events including NASA speakers as follows: \nAll times are Pacific \nMonday\, Oct. 24 \n8 a.m. – Keynote address from NASA Deputy Administrator Pam Melroy on Going Back to the Moon by Design\, followed by a panel on Partnering for Innovation in Cislunar Space. \nPanelists include: \n\nModerator: Ellen Ochoa\, former NASA astronaut and former director of NASA’s Johnson Space Center\nJim Free\, associate administrator\, NASA’s Exploration Systems Development Mission Directorate\nSandra Connelly\, deputy associate administrator\, NASA’s Science Mission Directorate\nLt. Gen. Nina Armagno\, director of staff\, U.S. Space Force\nTodd Nygren\, senior vice president\, Engineering and Technology Group\, The Aerospace Corporation\nGwynne Shotwell\, president and chief operating officer\, SpaceX\n\n12:45 p.m. – Overview of NASA’s Strategic Technology Framework. Panelists include: \n\nModerator: Julie Van Kleeck\, space domain Lead and ASCEND executive producer\, AIAA\nJim Reuter\, associate administrator\, NASA’s Space Technology Mission Directorate (STMD)\nMichelle Munk\, acting chief architect\, STMD\n\nTuesday\, Oct. 25 \n7 a.m. – Media briefing on NASA’s Low-Earth Orbit Flight Test of an Inflatable Decelerator (LOFTID) technology demonstration and other tech development for entry\, descent\, and landing. Participants include: \n\nTrudy Kortes\, director of technology demonstrations\, STMD\nMichelle Munk\, acting chief architect\, STMD\nAshley Korzun\, LOFTID aerodynamics database lead\, NASA\nNeil Cheatwood\, LOFTID principal investigator\, NASA\n\n8 a.m. – Accelerating Space Exploration Through Global Cooperation. \nPanelists include: \n\nModerator: Larry James\, deputy director\, NASA’s Jet Propulsion Laboratory\nPeter Gräf\, director of applications and science\, German Space Agency (DLR)\nKrunal Joshi\, counsellor\, Space (ISRO)\, Embassy of India\nNicolas Maubert\, space counselor\, Embassy of France in the United States; and Centre National d’Etudes Spatiales (CNES) representative in the United States\nMasami Onada\, director\, Washington office\, Japan Aerospace Exploration Agency\nÉric Vachon\, director general\, space science and technology\, Canadian Space Agency (CSA)\n\nWednesday\, Oct. 26 \n12 p.m. – Leaving Earth to Serve the Earth: Commercial and Government Assets Having Positive Impact on Earth. Panelists include: \n\nKate Calvin\, NASA chief scientist and senior climate advisor\nJulie Robinson\, deputy director\, NASA Earth Science Division\nLuciano Giesso\, head of sales\, global governments\, Satellogic
URL:https://spacepolicyonline.com/events/2022-ascend-aiaa-oct-24-26-2022-las-vegas-nv-virtual/
END:VEVENT
END:VCALENDAR