BEGIN:VCALENDAR
VERSION:2.0
PRODID:-//SpacePolicyOnline.com - ECPv6.15.11//NONSGML v1.0//EN
CALSCALE:GREGORIAN
METHOD:PUBLISH
X-WR-CALNAME:SpacePolicyOnline.com
X-ORIGINAL-URL:https://spacepolicyonline.com
X-WR-CALDESC:Events for SpacePolicyOnline.com
REFRESH-INTERVAL;VALUE=DURATION:PT1H
X-Robots-Tag:noindex
X-PUBLISHED-TTL:PT1H
BEGIN:VTIMEZONE
TZID:America/New_York
BEGIN:DAYLIGHT
TZOFFSETFROM:-0500
TZOFFSETTO:-0400
TZNAME:EDT
DTSTART:20210314T070000
END:DAYLIGHT
BEGIN:STANDARD
TZOFFSETFROM:-0400
TZOFFSETTO:-0500
TZNAME:EST
DTSTART:20211107T060000
END:STANDARD
BEGIN:DAYLIGHT
TZOFFSETFROM:-0500
TZOFFSETTO:-0400
TZNAME:EDT
DTSTART:20220313T070000
END:DAYLIGHT
BEGIN:STANDARD
TZOFFSETFROM:-0400
TZOFFSETTO:-0500
TZNAME:EST
DTSTART:20221106T060000
END:STANDARD
BEGIN:DAYLIGHT
TZOFFSETFROM:-0500
TZOFFSETTO:-0400
TZNAME:EDT
DTSTART:20230312T070000
END:DAYLIGHT
BEGIN:STANDARD
TZOFFSETFROM:-0400
TZOFFSETTO:-0500
TZNAME:EST
DTSTART:20231105T060000
END:STANDARD
END:VTIMEZONE
BEGIN:VEVENT
DTSTART;TZID=America/New_York:20220419T073000
DTEND;TZID=America/New_York:20220421T230000
DTSTAMP:20260419T111913
CREATED:20220312T153010Z
LAST-MODIFIED:20220312T153010Z
UID:51336-1650353400-1650582000@spacepolicyonline.com
SUMMARY:2022 DEFENSE AND SECURITY FORUM (AIAA)\, Apr 19-21\, 2022\, Laurel\, MD
DESCRIPTION:The American Institute of Aeronautics and Astronautics (AIAA) will hold the 2022 Defense and Security Forum from April 19-21\, 2022 at the Johns Hopkins Applied Physics Lab in Laurel\, MD.  The forum is classified at the Secret/NOFORN level. \nMore information is on the event’s website.
URL:https://spacepolicyonline.com/events/2022-defense-and-security-forum-aiaa-apr-19-21-2022-laurel-md/
END:VEVENT
END:VCALENDAR