BEGIN:VCALENDAR
VERSION:2.0
PRODID:-//SpacePolicyOnline.com - ECPv6.15.11//NONSGML v1.0//EN
CALSCALE:GREGORIAN
METHOD:PUBLISH
X-WR-CALNAME:SpacePolicyOnline.com
X-ORIGINAL-URL:https://spacepolicyonline.com
X-WR-CALDESC:Events for SpacePolicyOnline.com
REFRESH-INTERVAL;VALUE=DURATION:PT1H
X-Robots-Tag:noindex
X-PUBLISHED-TTL:PT1H
BEGIN:VTIMEZONE
TZID:America/New_York
BEGIN:DAYLIGHT
TZOFFSETFROM:-0500
TZOFFSETTO:-0400
TZNAME:EDT
DTSTART:20220313T070000
END:DAYLIGHT
BEGIN:STANDARD
TZOFFSETFROM:-0400
TZOFFSETTO:-0500
TZNAME:EST
DTSTART:20221106T060000
END:STANDARD
BEGIN:DAYLIGHT
TZOFFSETFROM:-0500
TZOFFSETTO:-0400
TZNAME:EDT
DTSTART:20230312T070000
END:DAYLIGHT
BEGIN:STANDARD
TZOFFSETFROM:-0400
TZOFFSETTO:-0500
TZNAME:EST
DTSTART:20231105T060000
END:STANDARD
BEGIN:DAYLIGHT
TZOFFSETFROM:-0500
TZOFFSETTO:-0400
TZNAME:EDT
DTSTART:20240310T070000
END:DAYLIGHT
BEGIN:STANDARD
TZOFFSETFROM:-0400
TZOFFSETTO:-0500
TZNAME:EST
DTSTART:20241103T060000
END:STANDARD
END:VTIMEZONE
BEGIN:VEVENT
DTSTART;TZID=America/New_York:20230227T073000
DTEND;TZID=America/New_York:20230301T230000
DTSTAMP:20260425T223853
CREATED:20230117T203806Z
LAST-MODIFIED:20230226T213019Z
UID:59371-1677483000-1677711600@spacepolicyonline.com
SUMMARY:2023 NEXT-GENERATION SUBORBITAL RESEARCHERS CONF (NSRC 2023)\, Feb 27-Mar 1\, 2023\, Broomfield\, CO
DESCRIPTION:The Southwest Research Institute (SwRI) and the Commercial Spaceflight Federation (CSF) will hold the 2023 Next-generation Suborbital Researchers Conference (NSRC 2023) from February 27-March 1\, 2023 in Broomfield\, CO. \nMore information is on the event’s website.
URL:https://spacepolicyonline.com/events/2023-next-generation-suborbital-researchers-conf-nrsc-2023-feb-27-mar-1-2023-broomfield-co/
END:VEVENT
END:VCALENDAR