BEGIN:VCALENDAR
VERSION:2.0
PRODID:-//SpacePolicyOnline.com - ECPv6.15.11//NONSGML v1.0//EN
CALSCALE:GREGORIAN
METHOD:PUBLISH
X-WR-CALNAME:SpacePolicyOnline.com
X-ORIGINAL-URL:https://spacepolicyonline.com
X-WR-CALDESC:Events for SpacePolicyOnline.com
REFRESH-INTERVAL;VALUE=DURATION:PT1H
X-Robots-Tag:noindex
X-PUBLISHED-TTL:PT1H
BEGIN:VTIMEZONE
TZID:America/New_York
BEGIN:DAYLIGHT
TZOFFSETFROM:-0500
TZOFFSETTO:-0400
TZNAME:EDT
DTSTART:20230312T070000
END:DAYLIGHT
BEGIN:STANDARD
TZOFFSETFROM:-0400
TZOFFSETTO:-0500
TZNAME:EST
DTSTART:20231105T060000
END:STANDARD
BEGIN:DAYLIGHT
TZOFFSETFROM:-0500
TZOFFSETTO:-0400
TZNAME:EDT
DTSTART:20240310T070000
END:DAYLIGHT
BEGIN:STANDARD
TZOFFSETFROM:-0400
TZOFFSETTO:-0500
TZNAME:EST
DTSTART:20241103T060000
END:STANDARD
BEGIN:DAYLIGHT
TZOFFSETFROM:-0500
TZOFFSETTO:-0400
TZNAME:EDT
DTSTART:20250309T070000
END:DAYLIGHT
BEGIN:STANDARD
TZOFFSETFROM:-0400
TZOFFSETTO:-0500
TZNAME:EST
DTSTART:20251102T060000
END:STANDARD
END:VTIMEZONE
BEGIN:VEVENT
DTSTART;TZID=America/New_York:20240920T070000
DTEND;TZID=America/New_York:20240921T230000
DTSTAMP:20260420T224515
CREATED:20240915T202932Z
LAST-MODIFIED:20240915T202932Z
UID:74294-1726815600-1726959600@spacepolicyonline.com
SUMMARY:2024 FORESIGHT SPACE FUTURES & GOVERNANCE CONFERENCE\, Sept 20-21\, 2024\, Oakland\, CA\, 9:30 am-5:00 pm PACIFIC TIME
DESCRIPTION:The Foresight Institute will hold the 2024 Foresight  Space Futures & Governance Conference at the Chabot Space Center in Oakland\, CA from September 20-21\, 2024. The meeting is 9:30 am-5:00 pm PACIFIC Time each day. \nMore information is on the event’s website\, which says: \n“Recently accelerating progress on space science and technologies has opened up new frontiers and possible governance challenges\, as well as opportunities to make our future in space accessible\, peaceful\, and flourishing. \n“The 2024 Space Futures & Governance Workshop invites leading space-oriented scientists and technologists\, as well as researchers and practitioners focused on governance\, law\, economics\, and related areas to explore emerging opportunities at the intersection of space technology and governance.”
URL:https://spacepolicyonline.com/events/2024-foresight-space-futures-governance-conference-sept-20-21-2024-oakland-ca-930-am-500-pm-pacific-time/
END:VEVENT
END:VCALENDAR