BEGIN:VCALENDAR
VERSION:2.0
PRODID:-//SpacePolicyOnline.com - ECPv6.15.11//NONSGML v1.0//EN
CALSCALE:GREGORIAN
METHOD:PUBLISH
X-WR-CALNAME:SpacePolicyOnline.com
X-ORIGINAL-URL:https://spacepolicyonline.com
X-WR-CALDESC:Events for SpacePolicyOnline.com
REFRESH-INTERVAL;VALUE=DURATION:PT1H
X-Robots-Tag:noindex
X-PUBLISHED-TTL:PT1H
BEGIN:VTIMEZONE
TZID:America/New_York
BEGIN:DAYLIGHT
TZOFFSETFROM:-0500
TZOFFSETTO:-0400
TZNAME:EDT
DTSTART:20230312T070000
END:DAYLIGHT
BEGIN:STANDARD
TZOFFSETFROM:-0400
TZOFFSETTO:-0500
TZNAME:EST
DTSTART:20231105T060000
END:STANDARD
BEGIN:DAYLIGHT
TZOFFSETFROM:-0500
TZOFFSETTO:-0400
TZNAME:EDT
DTSTART:20240310T070000
END:DAYLIGHT
BEGIN:STANDARD
TZOFFSETFROM:-0400
TZOFFSETTO:-0500
TZNAME:EST
DTSTART:20241103T060000
END:STANDARD
BEGIN:DAYLIGHT
TZOFFSETFROM:-0500
TZOFFSETTO:-0400
TZNAME:EDT
DTSTART:20250309T070000
END:DAYLIGHT
BEGIN:STANDARD
TZOFFSETFROM:-0400
TZOFFSETTO:-0500
TZNAME:EST
DTSTART:20251102T060000
END:STANDARD
END:VTIMEZONE
BEGIN:VEVENT
DTSTART;TZID=America/New_York:20241210T080000
DTEND;TZID=America/New_York:20241210T230000
DTSTAMP:20260420T100619
CREATED:20240930T231316Z
LAST-MODIFIED:20240930T231316Z
UID:74723-1733817600-1733871600@spacepolicyonline.com
SUMMARY:2024 NEWSPACE SHOWSPACE SUMMIT\, Dec 10\, 2024\, Albuquerque\, NM
DESCRIPTION:The 2024 NewSpace Showspace Summit will take place on December 10\, 2024 at the NewSpace Launchpad\, 2420 Alamo Ave.\, SE #104\, Albuquerque\, NM. \nMore information is on the event’s website.
URL:https://spacepolicyonline.com/events/2024-newspace-showspace-summit-dec-10-2024-albuquerque-nm/
END:VEVENT
END:VCALENDAR