BEGIN:VCALENDAR
VERSION:2.0
PRODID:-//SpacePolicyOnline.com - ECPv6.15.11//NONSGML v1.0//EN
CALSCALE:GREGORIAN
METHOD:PUBLISH
X-WR-CALNAME:SpacePolicyOnline.com
X-ORIGINAL-URL:https://spacepolicyonline.com
X-WR-CALDESC:Events for SpacePolicyOnline.com
REFRESH-INTERVAL;VALUE=DURATION:PT1H
X-Robots-Tag:noindex
X-PUBLISHED-TTL:PT1H
BEGIN:VTIMEZONE
TZID:America/New_York
BEGIN:DAYLIGHT
TZOFFSETFROM:-0500
TZOFFSETTO:-0400
TZNAME:EDT
DTSTART:20240310T070000
END:DAYLIGHT
BEGIN:STANDARD
TZOFFSETFROM:-0400
TZOFFSETTO:-0500
TZNAME:EST
DTSTART:20241103T060000
END:STANDARD
BEGIN:DAYLIGHT
TZOFFSETFROM:-0500
TZOFFSETTO:-0400
TZNAME:EDT
DTSTART:20250309T070000
END:DAYLIGHT
BEGIN:STANDARD
TZOFFSETFROM:-0400
TZOFFSETTO:-0500
TZNAME:EST
DTSTART:20251102T060000
END:STANDARD
BEGIN:DAYLIGHT
TZOFFSETFROM:-0500
TZOFFSETTO:-0400
TZNAME:EDT
DTSTART:20260308T070000
END:DAYLIGHT
BEGIN:STANDARD
TZOFFSETFROM:-0400
TZOFFSETTO:-0500
TZNAME:EST
DTSTART:20261101T060000
END:STANDARD
END:VTIMEZONE
BEGIN:VEVENT
DTSTART;TZID=America/New_York:20250731T070000
DTEND;TZID=America/New_York:20250731T230000
DTSTAMP:20260419T141846
CREATED:20250725T202459Z
LAST-MODIFIED:20250725T202459Z
UID:82801-1753945200-1754002800@spacepolicyonline.com
SUMMARY:2025 AIR AND SPACE SUMMIT (Potomac Officers Club)\, July 31\, 2025\, McLean\, VA\, 7:00 am-3:45 pm ET
DESCRIPTION:The Potomac Officers Club will hold the 2025 Air and Space Summit on July 31\, 2025 from 7:00 am-3:45 pm ET at the Hilton-McLean\, 7920 Jones Branch Drive\, McLean\, VA. \nMore information is on the event’s website\, which says: \nAir and space defense is a critical component of national security\, and it’s increasingly essential in the looming Great Power Competition era. With the increasing sophistication of threats\, the need for advanced defense capabilities in the air and space domains has never been more urgent. The Potomac Officers Club’s 2025 Air and Space Defense Summit will provide invaluable insights into the challenges and opportunities facing the industry\, helping attendees understand the strategic importance of air and space defense and how to contribute to its advancement.
URL:https://spacepolicyonline.com/events/2025-air-and-space-summit-potomac-officers-club-july-31-2025-mclean-va-700-am-345-pm-et/
END:VEVENT
END:VCALENDAR