BEGIN:VCALENDAR
VERSION:2.0
PRODID:-//SpacePolicyOnline.com - ECPv6.15.11//NONSGML v1.0//EN
CALSCALE:GREGORIAN
METHOD:PUBLISH
X-WR-CALNAME:SpacePolicyOnline.com
X-ORIGINAL-URL:https://spacepolicyonline.com
X-WR-CALDESC:Events for SpacePolicyOnline.com
REFRESH-INTERVAL;VALUE=DURATION:PT1H
X-Robots-Tag:noindex
X-PUBLISHED-TTL:PT1H
BEGIN:VTIMEZONE
TZID:America/New_York
BEGIN:DAYLIGHT
TZOFFSETFROM:-0500
TZOFFSETTO:-0400
TZNAME:EDT
DTSTART:20240310T070000
END:DAYLIGHT
BEGIN:STANDARD
TZOFFSETFROM:-0400
TZOFFSETTO:-0500
TZNAME:EST
DTSTART:20241103T060000
END:STANDARD
BEGIN:DAYLIGHT
TZOFFSETFROM:-0500
TZOFFSETTO:-0400
TZNAME:EDT
DTSTART:20250309T070000
END:DAYLIGHT
BEGIN:STANDARD
TZOFFSETFROM:-0400
TZOFFSETTO:-0500
TZNAME:EST
DTSTART:20251102T060000
END:STANDARD
BEGIN:DAYLIGHT
TZOFFSETFROM:-0500
TZOFFSETTO:-0400
TZNAME:EDT
DTSTART:20260308T070000
END:DAYLIGHT
BEGIN:STANDARD
TZOFFSETFROM:-0400
TZOFFSETTO:-0500
TZNAME:EST
DTSTART:20261101T060000
END:STANDARD
END:VTIMEZONE
BEGIN:VEVENT
DTSTART;TZID=America/New_York:20250416T083000
DTEND;TZID=America/New_York:20250416T230000
DTSTAMP:20260419T204959
CREATED:20250414T153454Z
LAST-MODIFIED:20250414T153454Z
UID:80100-1744792200-1744844400@spacepolicyonline.com
SUMMARY:2025 ENDURING INTERNATIONAL PARTNERSHIP IN SPACE SUMMIT (RAeS)\, Apr 16\, 2025\, DC\, 8:30 am-12:30 pm ET
DESCRIPTION:The Royal Aeronautical Society (RAeS) Washington D.C. branch will hold the “2025 Enduring International Partnership in Space Summit” at the Canadian Embassy in Washington\, D.C. on April 16\, 2025 from 8:30 am-12:30 pm ET. \nMore information and the agenda are on the event’s website\, which says: \nThe 2025 Enduring International Partnership In Space Summit brings together thought leaders in space technology from around the world to explore which frameworks of cooperation best-tackle the evolving hurdles of humanity’s race to the stars. This RAeS Collaboration Nexus program will deliver high-value discussions critical to meet this moment in history and dive into key questions important to national security and civilian space—How can international teamwork defend satellites at the pace of the threat? What will follow the International Space Station? What technologies will need to come together to reach Mars? \nFor the answers\, plus a morning of incredible conversation and networking\, please join us.
URL:https://spacepolicyonline.com/events/2025-enduring-international-partnership-in-space-summit-raes-apr-16-2025-dc-830-am-1230-pm-et/
END:VEVENT
END:VCALENDAR