BEGIN:VCALENDAR
VERSION:2.0
PRODID:-//SpacePolicyOnline.com - ECPv6.15.11//NONSGML v1.0//EN
CALSCALE:GREGORIAN
METHOD:PUBLISH
X-WR-CALNAME:SpacePolicyOnline.com
X-ORIGINAL-URL:https://spacepolicyonline.com
X-WR-CALDESC:Events for SpacePolicyOnline.com
REFRESH-INTERVAL;VALUE=DURATION:PT1H
X-Robots-Tag:noindex
X-PUBLISHED-TTL:PT1H
BEGIN:VTIMEZONE
TZID:America/New_York
BEGIN:DAYLIGHT
TZOFFSETFROM:-0500
TZOFFSETTO:-0400
TZNAME:EDT
DTSTART:20250309T070000
END:DAYLIGHT
BEGIN:STANDARD
TZOFFSETFROM:-0400
TZOFFSETTO:-0500
TZNAME:EST
DTSTART:20251102T060000
END:STANDARD
BEGIN:DAYLIGHT
TZOFFSETFROM:-0500
TZOFFSETTO:-0400
TZNAME:EDT
DTSTART:20260308T070000
END:DAYLIGHT
BEGIN:STANDARD
TZOFFSETFROM:-0400
TZOFFSETTO:-0500
TZNAME:EST
DTSTART:20261101T060000
END:STANDARD
BEGIN:DAYLIGHT
TZOFFSETFROM:-0500
TZOFFSETTO:-0400
TZNAME:EDT
DTSTART:20270314T070000
END:DAYLIGHT
BEGIN:STANDARD
TZOFFSETFROM:-0400
TZOFFSETTO:-0500
TZNAME:EST
DTSTART:20271107T060000
END:STANDARD
END:VTIMEZONE
BEGIN:VEVENT
DTSTART;TZID=America/New_York:20260721T073000
DTEND;TZID=America/New_York:20260723T230000
DTSTAMP:20260419T192636
CREATED:20260408T201630Z
LAST-MODIFIED:20260408T201630Z
UID:88058-1784619000-1784847600@spacepolicyonline.com
SUMMARY:2026 NASA EXPLORATION SCIENCE FORUM (NESF)\, July 21-23\, 2026\, Mountain View\, CA
DESCRIPTION:The 2026 NASA Exploration Science Forum (NESF) will take place at NASA’s Ames Research Center in Mountain View\, CA from July 21-23\, 2026. \nMore information is on the event’s website\, which says:
URL:https://spacepolicyonline.com/events/2026-nasa-exploration-science-forum-nesf-july-21-23-2026-mountain-view-ca/
END:VEVENT
END:VCALENDAR