BEGIN:VCALENDAR
VERSION:2.0
PRODID:-//SpacePolicyOnline.com - ECPv6.15.11//NONSGML v1.0//EN
CALSCALE:GREGORIAN
METHOD:PUBLISH
X-WR-CALNAME:SpacePolicyOnline.com
X-ORIGINAL-URL:https://spacepolicyonline.com
X-WR-CALDESC:Events for SpacePolicyOnline.com
REFRESH-INTERVAL;VALUE=DURATION:PT1H
X-Robots-Tag:noindex
X-PUBLISHED-TTL:PT1H
BEGIN:VTIMEZONE
TZID:America/New_York
BEGIN:DAYLIGHT
TZOFFSETFROM:-0500
TZOFFSETTO:-0400
TZNAME:EDT
DTSTART:20240310T070000
END:DAYLIGHT
BEGIN:STANDARD
TZOFFSETFROM:-0400
TZOFFSETTO:-0500
TZNAME:EST
DTSTART:20241103T060000
END:STANDARD
BEGIN:DAYLIGHT
TZOFFSETFROM:-0500
TZOFFSETTO:-0400
TZNAME:EDT
DTSTART:20250309T070000
END:DAYLIGHT
BEGIN:STANDARD
TZOFFSETFROM:-0400
TZOFFSETTO:-0500
TZNAME:EST
DTSTART:20251102T060000
END:STANDARD
BEGIN:DAYLIGHT
TZOFFSETFROM:-0500
TZOFFSETTO:-0400
TZNAME:EDT
DTSTART:20260308T070000
END:DAYLIGHT
BEGIN:STANDARD
TZOFFSETFROM:-0400
TZOFFSETTO:-0500
TZNAME:EST
DTSTART:20261101T060000
END:STANDARD
END:VTIMEZONE
BEGIN:VEVENT
DTSTART;TZID=America/New_York:20250603T150000
DTEND;TZID=America/New_York:20250603T230000
DTSTAMP:20260419T141745
CREATED:20250514T184057Z
LAST-MODIFIED:20250523T143640Z
UID:81013-1748962800-1748991600@spacepolicyonline.com
SUMMARY:2ND ANNUAL STATE OF THE SCIENCE ADDRESS BY NATL ACADEMY OF SCIENCES PRESIDENT MARCIA MCNUTT\, June 3\, 2025\, DC/online\, 3:00-5:00 pm ET
DESCRIPTION:Dr. Marcia McNutt\, President of the National Academy of Sciences\, will present the 2nd Annual State of the Science Address on June 3\, 2025 at the National Academy of Sciences building\, 2101 Constitution Ave.\, NW\, Washington\, DC. \nHer address will be followed by a panel discussion with research leaders moderated by Kelvin Droegemeier who served as President Trump’s Science Adviser and Director of the White House Office of Science and Technology Policy in Trump’s first term. \nThe event will take place from 3:00-5:00 pm ET. A virtual option is available. \nMore information is on the event’s website. \n 
URL:https://spacepolicyonline.com/events/2nd-annual-state-of-the-science-address-by-natl-academy-of-sciences-president-marcia-mcnutt/
END:VEVENT
END:VCALENDAR