BEGIN:VCALENDAR
VERSION:2.0
PRODID:-//SpacePolicyOnline.com - ECPv6.15.11//NONSGML v1.0//EN
CALSCALE:GREGORIAN
METHOD:PUBLISH
X-WR-CALNAME:SpacePolicyOnline.com
X-ORIGINAL-URL:https://spacepolicyonline.com
X-WR-CALDESC:Events for SpacePolicyOnline.com
REFRESH-INTERVAL;VALUE=DURATION:PT1H
X-Robots-Tag:noindex
X-PUBLISHED-TTL:PT1H
BEGIN:VTIMEZONE
TZID:America/New_York
BEGIN:DAYLIGHT
TZOFFSETFROM:-0500
TZOFFSETTO:-0400
TZNAME:EDT
DTSTART:20220313T070000
END:DAYLIGHT
BEGIN:STANDARD
TZOFFSETFROM:-0400
TZOFFSETTO:-0500
TZNAME:EST
DTSTART:20221106T060000
END:STANDARD
BEGIN:DAYLIGHT
TZOFFSETFROM:-0500
TZOFFSETTO:-0400
TZNAME:EDT
DTSTART:20230312T070000
END:DAYLIGHT
BEGIN:STANDARD
TZOFFSETFROM:-0400
TZOFFSETTO:-0500
TZNAME:EST
DTSTART:20231105T060000
END:STANDARD
BEGIN:DAYLIGHT
TZOFFSETFROM:-0500
TZOFFSETTO:-0400
TZNAME:EDT
DTSTART:20240310T070000
END:DAYLIGHT
BEGIN:STANDARD
TZOFFSETFROM:-0400
TZOFFSETTO:-0500
TZNAME:EST
DTSTART:20241103T060000
END:STANDARD
END:VTIMEZONE
BEGIN:VEVENT
DTSTART;TZID=America/New_York:20230405T090000
DTEND;TZID=America/New_York:20230405T230000
DTSTAMP:20260425T171645
CREATED:20230224T211931Z
LAST-MODIFIED:20230401T212058Z
UID:60101-1680685200-1680735600@spacepolicyonline.com
SUMMARY:2nd MITCHELL INSTITUTE SPACEPOWER SECURITY FORUM\, Apr 5\, 2023\, Arlington\, VA\, 9:00 am-3:00 pm ET
DESCRIPTION:Update\, April 1: More information is now available on the event’s website. The start time is 9:00 am instead of 8:00 am ET. Speakers include: Gen B. Chance Saltzman\, Chief of Space Operations\, USSF; Lt Gen DeAnna M. Burt\, Deputy Chief of Space Operations for Operations\, Cyber\, and Nuclear\, USSF; Edward Zoiss\, President\, Space and Airborne Systems\, L3Harris; Tim Ryan; Maj Gen David N. Miller\, Director of Operations\, Training and Force Development\, USSPACECOM; Gen Kevin P. Chilton\, USAF (Ret.); Stacy Kubicek\, Vice President & General Manager for Mission Solutions\, Lockheed Martin; Dr. Derek Tournear\, Director\, Space Development Agency; Brig Gen Timothy A. Sejba\, Program Executive Officer\, Space Systems Command\, USSF; Col Eric Felt\, Director of Space Architecture and Integration\, USSF; Charles Galbreath; Dr. Lisa A. Costa\, SES\, Chief Technology and Innovation Officer (CTIO)\, USSF \nOriginal Entry: The Mitchell Institute for Aerospace Studies will hold its second Spacepower Security Forum at the Army Navy Country Club\, 1700 Army Navy Drive\, Arlington\, VA on April 5\, 2023 from 8:00 am-3:00 pm ET.  The event is in-person only. \nThe Save the Date notice was tweeted on February 24. Check the Mitchell Institute’s website for more information. \n\nSAVE THE DATE! Join us on April 5th for our 2nd Annual Mitchell Insitute Spacepower Security Forum! Registration link coming soon! pic.twitter.com/WIFbuYtyiX \n— Mitchell Institute for Aerospace Studies (@MitchellStudies) February 24\, 2023
URL:https://spacepolicyonline.com/events/2nd-mitchell-institute-spacepower-security-forum-apr-5-2023-arlington-va-800-am-300-pm-et/
END:VEVENT
END:VCALENDAR