BEGIN:VCALENDAR
VERSION:2.0
PRODID:-//SpacePolicyOnline.com - ECPv6.15.11//NONSGML v1.0//EN
CALSCALE:GREGORIAN
METHOD:PUBLISH
X-WR-CALNAME:SpacePolicyOnline.com
X-ORIGINAL-URL:https://spacepolicyonline.com
X-WR-CALDESC:Events for SpacePolicyOnline.com
REFRESH-INTERVAL;VALUE=DURATION:PT1H
X-Robots-Tag:noindex
X-PUBLISHED-TTL:PT1H
BEGIN:VTIMEZONE
TZID:America/New_York
BEGIN:DAYLIGHT
TZOFFSETFROM:-0500
TZOFFSETTO:-0400
TZNAME:EDT
DTSTART:20180311T070000
END:DAYLIGHT
BEGIN:STANDARD
TZOFFSETFROM:-0400
TZOFFSETTO:-0500
TZNAME:EST
DTSTART:20181104T060000
END:STANDARD
BEGIN:DAYLIGHT
TZOFFSETFROM:-0500
TZOFFSETTO:-0400
TZNAME:EDT
DTSTART:20190310T070000
END:DAYLIGHT
BEGIN:STANDARD
TZOFFSETFROM:-0400
TZOFFSETTO:-0500
TZNAME:EST
DTSTART:20191103T060000
END:STANDARD
BEGIN:DAYLIGHT
TZOFFSETFROM:-0500
TZOFFSETTO:-0400
TZNAME:EDT
DTSTART:20200308T070000
END:DAYLIGHT
BEGIN:STANDARD
TZOFFSETFROM:-0400
TZOFFSETTO:-0500
TZNAME:EST
DTSTART:20201101T060000
END:STANDARD
END:VTIMEZONE
BEGIN:VEVENT
DTSTART;TZID=America/New_York:20191011T063000
DTEND;TZID=America/New_York:20191011T230000
DTSTAMP:20260420T055139
CREATED:20191006T155308Z
LAST-MODIFIED:20191006T155844Z
UID:29503-1570775400-1570834800@spacepolicyonline.com
SUMMARY:2nd OF FIVE SPACEWALKS TO REPLACE ISS BATTERIES\, Oct 11\, 2019\, Earth orbit
DESCRIPTION:Astronauts aboard the International Space Station (ISS) will conduct a series of five spacewalks to replace some of the original nickel-hydrogen batteries on the exterior of the space station with new lithium-ion batteries that were just delivered by Japan’s HTV-8 cargo spacecraft.  Astronauts have already replaced some of the batteries and a final round will take place next spring after the next HTV delivery. \nThe five spacewalks will be conducted on the following dates\, with crew assignments as of October 4\, 2019.  During an October 4 press briefing\, NASA ISS Program Manager Kirk Shireman and astronaut Megan McArthur\, Deputy Chief of the Astronaut Office\, stressed that they be learning as they go along so changes are possible. \nThe four U.S. Operating Segment (USOS) astronauts are NASA’s Christina Koch\, Drew Morgan and Jessica Meir and the European Space Agency’s Luca Parmitano. \nNASA TV will cover all of the spacewalks\, each of which will last about 6.5 hours. \nFifty-five USOS spacewalks — or extravehicular activities (EVAs) — have already taken place.  These are numbers 56-60. \nEVA 56:  October 6\, Koch and Morgan\nEVA 57:  October 11\, Koch and Morgan\nEVA 58:  October 16\, Morgan and Meir\nEVA 59:  October 21\, Koch and Meir\nEVA 60:  October 25\, Meir and Parmitano
URL:https://spacepolicyonline.com/events/2nd-of-five-spacewalks-to-replace-iss-batteries-oct-11-2019-earth-orbit/
END:VEVENT
END:VCALENDAR