BEGIN:VCALENDAR
VERSION:2.0
PRODID:-//SpacePolicyOnline.com - ECPv6.15.11//NONSGML v1.0//EN
CALSCALE:GREGORIAN
METHOD:PUBLISH
X-WR-CALNAME:SpacePolicyOnline.com
X-ORIGINAL-URL:https://spacepolicyonline.com
X-WR-CALDESC:Events for SpacePolicyOnline.com
REFRESH-INTERVAL;VALUE=DURATION:PT1H
X-Robots-Tag:noindex
X-PUBLISHED-TTL:PT1H
BEGIN:VTIMEZONE
TZID:America/New_York
BEGIN:DAYLIGHT
TZOFFSETFROM:-0500
TZOFFSETTO:-0400
TZNAME:EDT
DTSTART:20180311T070000
END:DAYLIGHT
BEGIN:STANDARD
TZOFFSETFROM:-0400
TZOFFSETTO:-0500
TZNAME:EST
DTSTART:20181104T060000
END:STANDARD
BEGIN:DAYLIGHT
TZOFFSETFROM:-0500
TZOFFSETTO:-0400
TZNAME:EDT
DTSTART:20190310T070000
END:DAYLIGHT
BEGIN:STANDARD
TZOFFSETFROM:-0400
TZOFFSETTO:-0500
TZNAME:EST
DTSTART:20191103T060000
END:STANDARD
BEGIN:DAYLIGHT
TZOFFSETFROM:-0500
TZOFFSETTO:-0400
TZNAME:EDT
DTSTART:20200308T070000
END:DAYLIGHT
BEGIN:STANDARD
TZOFFSETFROM:-0400
TZOFFSETTO:-0500
TZNAME:EST
DTSTART:20201101T060000
END:STANDARD
END:VTIMEZONE
BEGIN:VEVENT
DTSTART;TZID=America/New_York:20190514T080000
DTEND;TZID=America/New_York:20190516T230000
DTSTAMP:20260422T235423
CREATED:20190428T172551Z
LAST-MODIFIED:20190512T165759Z
UID:25620-1557820800-1558047600@spacepolicyonline.com
SUMMARY:3rd COSPAR MTG ON REFINING PLANETARY PROTECTION REQ FOR HUMAN MISSIONS TO MARS\, May 14-16\, 2019?\, Houston\, TX
DESCRIPTION:NOTE\, MAY 12:  This meeting was posted on NASA’s Astrobiology website on February 25\, 2019 with the promise of additional forthcoming information.  It is still posted there\, but no additional information has been added and we have not been able to find any other information on the COSPAR or LPI websites\, so we do not know if it is still scheduled or not. \nOriginal Posting:  The Committee on Space Research (COSPAR) of the International Council for Science (ICSU) will hold a meeting on Refining Planetary Protection Requirements for Human Missions to Mars on May 14-16\, 2019 at the Lunar and Planetary Institute (LPI) in Houston\, TX. \nDetails are on NASA’s astrobiology website.
URL:https://spacepolicyonline.com/events/3rd-cospar-mtg-on-refining-planetary-protection-req-for-human-missions-to-mars-may-14-16-2019-houston-tx/
END:VEVENT
END:VCALENDAR