BEGIN:VCALENDAR
VERSION:2.0
PRODID:-//SpacePolicyOnline.com - ECPv6.15.11//NONSGML v1.0//EN
CALSCALE:GREGORIAN
METHOD:PUBLISH
X-WR-CALNAME:SpacePolicyOnline.com
X-ORIGINAL-URL:https://spacepolicyonline.com
X-WR-CALDESC:Events for SpacePolicyOnline.com
REFRESH-INTERVAL;VALUE=DURATION:PT1H
X-Robots-Tag:noindex
X-PUBLISHED-TTL:PT1H
BEGIN:VTIMEZONE
TZID:America/New_York
BEGIN:DAYLIGHT
TZOFFSETFROM:-0500
TZOFFSETTO:-0400
TZNAME:EDT
DTSTART:20240310T070000
END:DAYLIGHT
BEGIN:STANDARD
TZOFFSETFROM:-0400
TZOFFSETTO:-0500
TZNAME:EST
DTSTART:20241103T060000
END:STANDARD
BEGIN:DAYLIGHT
TZOFFSETFROM:-0500
TZOFFSETTO:-0400
TZNAME:EDT
DTSTART:20250309T070000
END:DAYLIGHT
BEGIN:STANDARD
TZOFFSETFROM:-0400
TZOFFSETTO:-0500
TZNAME:EST
DTSTART:20251102T060000
END:STANDARD
BEGIN:DAYLIGHT
TZOFFSETFROM:-0500
TZOFFSETTO:-0400
TZNAME:EDT
DTSTART:20260308T070000
END:DAYLIGHT
BEGIN:STANDARD
TZOFFSETFROM:-0400
TZOFFSETTO:-0500
TZNAME:EST
DTSTART:20261101T060000
END:STANDARD
END:VTIMEZONE
BEGIN:VEVENT
DTSTART;TZID=America/New_York:20250525T080000
DTEND;TZID=America/New_York:20250525T230000
DTSTAMP:20260419T153424
CREATED:20250517T221043Z
LAST-MODIFIED:20250517T221359Z
UID:81125-1748160000-1748214000@spacepolicyonline.com
SUMMARY:64th ANNIVERSARY OF JFK'S MOON SPEECH\, May 25\, 2025
DESCRIPTION:On May 25\, 1961\, three weeks after Alan Shepard became the first American to reach space on a suborbital mission\, President John F. Kennedy addressed a joint session of Congress and called on the nation to commit itself to the goal of landing a man on the Moon and returning him safely to Earth “before this decade is out.” \nPresident John F. Kennedy addresses a joint session of Congress\, May 25\, 1961. Credit: JFK Library video\nJohn Logsdon wrote the definitive history of what led up to that announcement and JFK’s efforts to sell the idea to a lukewarm Congress thereafter (John F. Kennedy and the Race to the Moon). \nJFK’s September 1962 Rice University speech where he said “we go to the Moon and do these other things because they are hard” is better known and often mistakenly identified as when he started the Apollo program. The 1962 speech was JFK’s attempt to build support for Apollo in Congress and with the American public\, who were wary of the costs.  Space historian Roger Launius has written about the myth and the reality of how much support Apollo had in the early and mid-1960s. \nWe haven’t heard of any events to commemorate JFK’s speech and the beginning of the Apollo program\, but if we do we’ll add the information here. In 2019\, the nation embarked on the Artemis program\, named after Apollo’s twin sister in Greek mythology\, to again put U.S. astronauts on the Moon. As of May 2025\, the first post-Apollo landing\, Artemis III\, is scheduled for mid-2027.
URL:https://spacepolicyonline.com/events/64th-anniversary-of-jfks-moon-speech-may-25-2025/
END:VEVENT
END:VCALENDAR