BEGIN:VCALENDAR
VERSION:2.0
PRODID:-//SpacePolicyOnline.com - ECPv6.15.11//NONSGML v1.0//EN
CALSCALE:GREGORIAN
METHOD:PUBLISH
X-WR-CALNAME:SpacePolicyOnline.com
X-ORIGINAL-URL:https://spacepolicyonline.com
X-WR-CALDESC:Events for SpacePolicyOnline.com
REFRESH-INTERVAL;VALUE=DURATION:PT1H
X-Robots-Tag:noindex
X-PUBLISHED-TTL:PT1H
BEGIN:VTIMEZONE
TZID:America/New_York
BEGIN:DAYLIGHT
TZOFFSETFROM:-0500
TZOFFSETTO:-0400
TZNAME:EDT
DTSTART:20200308T070000
END:DAYLIGHT
BEGIN:STANDARD
TZOFFSETFROM:-0400
TZOFFSETTO:-0500
TZNAME:EST
DTSTART:20201101T060000
END:STANDARD
BEGIN:DAYLIGHT
TZOFFSETFROM:-0500
TZOFFSETTO:-0400
TZNAME:EDT
DTSTART:20210314T070000
END:DAYLIGHT
BEGIN:STANDARD
TZOFFSETFROM:-0400
TZOFFSETTO:-0500
TZNAME:EST
DTSTART:20211107T060000
END:STANDARD
BEGIN:DAYLIGHT
TZOFFSETFROM:-0500
TZOFFSETTO:-0400
TZNAME:EDT
DTSTART:20220313T070000
END:DAYLIGHT
BEGIN:STANDARD
TZOFFSETFROM:-0400
TZOFFSETTO:-0500
TZNAME:EST
DTSTART:20221106T060000
END:STANDARD
END:VTIMEZONE
BEGIN:VEVENT
DTSTART;TZID=America/New_York:20210205T080000
DTEND;TZID=America/New_York:20210205T230000
DTSTAMP:20260419T162414
CREATED:20201208T173231Z
LAST-MODIFIED:20201208T173342Z
UID:39744-1612512000-1612566000@spacepolicyonline.com
SUMMARY:6th ANNUAL CITIES IN SPACE STUDENT CONFERENCE & COMPETITION\, Feb 5\, 2021\, virtual\, 10:00 am-2:30 pm ET
DESCRIPTION:The 6th Annual Cities in Space Student Conference and Competition will take place virtually on February 5\, 2021 from 9:00 am – 1:30 pm Central Time (10:00 am-2:30 pm Eastern).  [Note that the email announcing this conference says that it ends at 1:00 pm Central\, but the website says 1:30 pm Central.] \nMore information is on the event’s website.
URL:https://spacepolicyonline.com/events/6th-annual-cities-in-space-student-conference-competition-feb-5-2021-virtual-1000-am-230-pm-et/
END:VEVENT
END:VCALENDAR