BEGIN:VCALENDAR
VERSION:2.0
PRODID:-//SpacePolicyOnline.com - ECPv6.15.11//NONSGML v1.0//EN
CALSCALE:GREGORIAN
METHOD:PUBLISH
X-WR-CALNAME:SpacePolicyOnline.com
X-ORIGINAL-URL:https://spacepolicyonline.com
X-WR-CALDESC:Events for SpacePolicyOnline.com
REFRESH-INTERVAL;VALUE=DURATION:PT1H
X-Robots-Tag:noindex
X-PUBLISHED-TTL:PT1H
BEGIN:VTIMEZONE
TZID:America/New_York
BEGIN:DAYLIGHT
TZOFFSETFROM:-0500
TZOFFSETTO:-0400
TZNAME:EDT
DTSTART:20220313T070000
END:DAYLIGHT
BEGIN:STANDARD
TZOFFSETFROM:-0400
TZOFFSETTO:-0500
TZNAME:EST
DTSTART:20221106T060000
END:STANDARD
BEGIN:DAYLIGHT
TZOFFSETFROM:-0500
TZOFFSETTO:-0400
TZNAME:EDT
DTSTART:20230312T070000
END:DAYLIGHT
BEGIN:STANDARD
TZOFFSETFROM:-0400
TZOFFSETTO:-0500
TZNAME:EST
DTSTART:20231105T060000
END:STANDARD
BEGIN:DAYLIGHT
TZOFFSETFROM:-0500
TZOFFSETTO:-0400
TZNAME:EDT
DTSTART:20240310T070000
END:DAYLIGHT
BEGIN:STANDARD
TZOFFSETFROM:-0400
TZOFFSETTO:-0500
TZNAME:EST
DTSTART:20241103T060000
END:STANDARD
END:VTIMEZONE
BEGIN:VEVENT
DTSTART;TZID=America/New_York:20230307T180000
DTEND;TZID=America/New_York:20230307T230000
DTSTAMP:20260425T213109
CREATED:20230219T162509Z
LAST-MODIFIED:20230307T153300Z
UID:59983-1678212000-1678230000@spacepolicyonline.com
SUMMARY:8th SYMP ON ENSURING SAFE AND SUSTAINABLE USE OF OUTER SPACE (Japan's Cabinet Office)\, Mar 7\, 2023\, virtual\, 6:00-10:00 pm ET (Mar 8\, 8:00 am-12:00 pm JST)
DESCRIPTION:Update 2\, March 7:  SWF clarifies that this is the 8th National Space Policy Secretariat Symposium on Ensuring the the Safe and Sustainable Use of Outer Space.  The Secretariat is part of the Cabinet Office. \nThe time and date are correct — March 8\, 8:00 am-12:00 pm JST (March 7\, 6:00-10:00 pm EST). \nRegistration information and the agenda are posted on the event’s website. \nUpdate 1\, March 7:  Editor’s Note — the information we have for this event is from the website of the Secure World Foundation\, whose Director of Project Planning\, Brian Weeden\, is scheduled to speak. However\, we note that the link on that website is to the 2020 symposium.  If we get an updated link\, we will post it here. \n  \n \n  \nOriginal Entry: Japan’s Cabinet Office Space Policy Secretariat will hold the 7th International Symposium on Enduring Stable Use of Outer Space on March 8\, 2023 from “8:00 – 12:00.” \nWe assume that is 8:00 am – 12:00 pm. The website does not specify the time zone\, but we assume it is Japan Standard Time\, so that would be March 7\, 6:00-10:00 pm Eastern Standard Time.  If we learn differently\, we will update this Calendar item. \nThe symposium is virtual and will be in English. \nMore information is on the event’s website\, which says: \nThe 7th International Symposium on Ensuring Stable Use of Outer Space\nThis international symposium has been hosted by the Cabinet Office Space Policy Secretariat (former Cabinet Office Space Strategy Office) since 2016 with the aim of deepening discussions on the sustainable development of outer space. For the purpose of deepening discussions on ensuring the stable use of outer space\, we invite relevant parties from related countries to discuss issues that should be addressed and possible items to be implemented in the future\, share mutual recognition\, and promote international cooperation. We are using it as an opportunity to strengthen. \n\nDate: March 8\, 2020 (Tue) 8:00-12:00\nHolding format: Online\nRemarks: As this is an international symposium\, the entire presentation will be in English (no subtitles).\n\nParticipants include: \nOpening remarks\n\n\nMinister for Space Policy Takayuki Kobayashi\n\n\nKeynote speeches\n\n\nOHNO Keitaro\, State Minister for Space Policy\nBill NELSON\, Administrator\, NASA\nJosef ASCHBACHEER\, Director General\, ESA
URL:https://spacepolicyonline.com/events/7th-international-symp-on-ensuring-stable-use-of-outer-space-japans-cabinet-office-mar-7-2023-virtual-600-1000-pm-et-mar-8-800-am-1200-pm-jst/
END:VEVENT
END:VCALENDAR