BEGIN:VCALENDAR
VERSION:2.0
PRODID:-//SpacePolicyOnline.com - ECPv6.15.11//NONSGML v1.0//EN
CALSCALE:GREGORIAN
METHOD:PUBLISH
X-WR-CALNAME:SpacePolicyOnline.com
X-ORIGINAL-URL:https://spacepolicyonline.com
X-WR-CALDESC:Events for SpacePolicyOnline.com
REFRESH-INTERVAL;VALUE=DURATION:PT1H
X-Robots-Tag:noindex
X-PUBLISHED-TTL:PT1H
BEGIN:VTIMEZONE
TZID:America/New_York
BEGIN:DAYLIGHT
TZOFFSETFROM:-0500
TZOFFSETTO:-0400
TZNAME:EDT
DTSTART:20250309T070000
END:DAYLIGHT
BEGIN:STANDARD
TZOFFSETFROM:-0400
TZOFFSETTO:-0500
TZNAME:EST
DTSTART:20251102T060000
END:STANDARD
BEGIN:DAYLIGHT
TZOFFSETFROM:-0500
TZOFFSETTO:-0400
TZNAME:EDT
DTSTART:20260308T070000
END:DAYLIGHT
BEGIN:STANDARD
TZOFFSETFROM:-0400
TZOFFSETTO:-0500
TZNAME:EST
DTSTART:20261101T060000
END:STANDARD
BEGIN:DAYLIGHT
TZOFFSETFROM:-0500
TZOFFSETTO:-0400
TZNAME:EDT
DTSTART:20270314T070000
END:DAYLIGHT
BEGIN:STANDARD
TZOFFSETFROM:-0400
TZOFFSETTO:-0500
TZNAME:EST
DTSTART:20271107T060000
END:STANDARD
END:VTIMEZONE
BEGIN:VEVENT
DTSTART;TZID=America/New_York:20260614T073000
DTEND;TZID=America/New_York:20260616T230000
DTSTAMP:20260419T181020
CREATED:20260408T201148Z
LAST-MODIFIED:20260408T201148Z
UID:88055-1781422200-1781650800@spacepolicyonline.com
SUMMARY:9th PRAGUE SPACE SECURITY CONFERENCE\, June 14-16\, 2026\, Prague
DESCRIPTION:The 9th Prague Space Security Conference will take place June 14-16\, 2026 in Prague\, the Czech Republic. \nThe theme this year is: “Space Races Reimagined: Lunar Ambitions\, Ground-Based Competition\, and Principled Governance.” \nMore information is on the event’s website\, which says: \n\n\n\nThe 9th Prague Space Security Conference will focus on strategic competition with China\, including how seemingly benign capital flows\, investment patterns\, and products (e.g.\, Exchanged-Traded Funds\, etc.)\, and industrial dependencies are largely being employed by China to erode the resilience\, autonomy\, and competitiveness of allied space sectors. It will also examine how China’s rapidly advancing cislunar and lunar ambitions intersect with its intensifying ground-based space race and underscore the urgent need for principled space stewardship. \nPanelists will also assess the impact of the Russian threat on alliance cohesion\, driving a shifting of security-related burdens across NATO\, the EU\, and Asia\, reshaping traditional areas of responsibility and demanding new models of allied burden-sharing.   \nIn a series of high-level panels and moderated discussions\, participants will examine concrete policy options\, operational approaches\, and regulatory tools to strengthen space governance. The programme will bring together some 200 senior government officials\, military leaders\, industry leaders\, and experts from around the world.  \n\n \n\n\n 
URL:https://spacepolicyonline.com/events/9th-prague-space-security-conference-june-14-16-2026-prague/
END:VEVENT
END:VCALENDAR