BEGIN:VCALENDAR
VERSION:2.0
PRODID:-//SpacePolicyOnline.com - ECPv6.15.11//NONSGML v1.0//EN
CALSCALE:GREGORIAN
METHOD:PUBLISH
X-WR-CALNAME:SpacePolicyOnline.com
X-ORIGINAL-URL:https://spacepolicyonline.com
X-WR-CALDESC:Events for SpacePolicyOnline.com
REFRESH-INTERVAL;VALUE=DURATION:PT1H
X-Robots-Tag:noindex
X-PUBLISHED-TTL:PT1H
BEGIN:VTIMEZONE
TZID:America/New_York
BEGIN:DAYLIGHT
TZOFFSETFROM:-0500
TZOFFSETTO:-0400
TZNAME:EDT
DTSTART:20200308T070000
END:DAYLIGHT
BEGIN:STANDARD
TZOFFSETFROM:-0400
TZOFFSETTO:-0500
TZNAME:EST
DTSTART:20201101T060000
END:STANDARD
BEGIN:DAYLIGHT
TZOFFSETFROM:-0500
TZOFFSETTO:-0400
TZNAME:EDT
DTSTART:20210314T070000
END:DAYLIGHT
BEGIN:STANDARD
TZOFFSETFROM:-0400
TZOFFSETTO:-0500
TZNAME:EST
DTSTART:20211107T060000
END:STANDARD
BEGIN:DAYLIGHT
TZOFFSETFROM:-0500
TZOFFSETTO:-0400
TZNAME:EDT
DTSTART:20220313T070000
END:DAYLIGHT
BEGIN:STANDARD
TZOFFSETFROM:-0400
TZOFFSETTO:-0500
TZNAME:EST
DTSTART:20221106T060000
END:STANDARD
END:VTIMEZONE
BEGIN:VEVENT
DTSTART;TZID=America/New_York:20210323T120000
DTEND;TZID=America/New_York:20210323T230000
DTSTAMP:20260420T033128
CREATED:20210321T182305Z
LAST-MODIFIED:20210321T182305Z
UID:42474-1616500800-1616540400@spacepolicyonline.com
SUMMARY:A NEW SPACE FOR ALL: CUTTING EDGE TOPICS IN THE INDUSTRY (WIN)\, Mar 23\, 2021\, virtual\, 12:00-1:30 pm ET
DESCRIPTION:Women in NOVA (WIN) will hold a webinar on March 23\, 2021 from 12:00-1:30 pm ET on “A New Space For All: Cutting Edge Topics in the Industry.” \nMore information is on the event’s website\, which says: \nSpeakers at the Women In NOVA (WIN) March webinar will discuss cutting edge space topics affecting the United States today. This is a pivotal issue as USSPACECOM debates their move to a new headquarters\, Space Force works to establish superiority in space\, and the Space Development Agency continues to mature as a new organization. There is so much to learn about space power and where it is headed. \nParticipants are: \n\nBrig. Gen. Jody Merritt\, Mobilization Assistant to the Combined Force Space Component Commander\, U.S. Space Command\, and Commander\, Space Operations Command\, U.S. Space Force\, Vandenberg Air Force Base\, CA\nCol. Kalliroi Landry\, Chief\, Support Cell\, Space Development Agency\nSandy Krawchuk\, Group Vice President\, North America Public Sector Cloud Infrastructure\, Oracle Corp. (moderator)\n\n 
URL:https://spacepolicyonline.com/events/a-new-space-for-all-cutting-edge-topics-in-the-industry-win-mar-23-2021-virtual-1200-130-pm-et/
END:VEVENT
END:VCALENDAR