BEGIN:VCALENDAR
VERSION:2.0
PRODID:-//SpacePolicyOnline.com - ECPv6.15.11//NONSGML v1.0//EN
CALSCALE:GREGORIAN
METHOD:PUBLISH
X-WR-CALNAME:SpacePolicyOnline.com
X-ORIGINAL-URL:https://spacepolicyonline.com
X-WR-CALDESC:Events for SpacePolicyOnline.com
REFRESH-INTERVAL;VALUE=DURATION:PT1H
X-Robots-Tag:noindex
X-PUBLISHED-TTL:PT1H
BEGIN:VTIMEZONE
TZID:America/New_York
BEGIN:DAYLIGHT
TZOFFSETFROM:-0500
TZOFFSETTO:-0400
TZNAME:EDT
DTSTART:20220313T070000
END:DAYLIGHT
BEGIN:STANDARD
TZOFFSETFROM:-0400
TZOFFSETTO:-0500
TZNAME:EST
DTSTART:20221106T060000
END:STANDARD
BEGIN:DAYLIGHT
TZOFFSETFROM:-0500
TZOFFSETTO:-0400
TZNAME:EDT
DTSTART:20230312T070000
END:DAYLIGHT
BEGIN:STANDARD
TZOFFSETFROM:-0400
TZOFFSETTO:-0500
TZNAME:EST
DTSTART:20231105T060000
END:STANDARD
BEGIN:DAYLIGHT
TZOFFSETFROM:-0500
TZOFFSETTO:-0400
TZNAME:EDT
DTSTART:20240310T070000
END:DAYLIGHT
BEGIN:STANDARD
TZOFFSETFROM:-0400
TZOFFSETTO:-0500
TZNAME:EST
DTSTART:20241103T060000
END:STANDARD
END:VTIMEZONE
BEGIN:VEVENT
DTSTART;TZID=America/New_York:20230302T073000
DTEND;TZID=America/New_York:20230305T230000
DTSTAMP:20260425T211327
CREATED:20221228T195034Z
LAST-MODIFIED:20230226T204717Z
UID:58938-1677742200-1678057200@spacepolicyonline.com
SUMMARY:AAAS ANNUAL MEETING\, Mar 2-5\, 2023\, Washington\, DC and online
DESCRIPTION:The American Association for the Advancement of Science (AAAC) will hold its annual meeting from March 2-5\, 2023 in Washington\, D.C.  A virtual option is available. \nMost events will take place at the Walter E. Washington Convention Center and the Renaissance Washington\, D.C. Downtown Hotel. \nMore information is on the event’s website.
URL:https://spacepolicyonline.com/events/aaas-annual-meeting-mar-2-5-2023-washington-dc-and-online/
END:VEVENT
END:VCALENDAR