BEGIN:VCALENDAR
VERSION:2.0
PRODID:-//SpacePolicyOnline.com - ECPv6.15.11//NONSGML v1.0//EN
CALSCALE:GREGORIAN
METHOD:PUBLISH
X-WR-CALNAME:SpacePolicyOnline.com
X-ORIGINAL-URL:https://spacepolicyonline.com
X-WR-CALDESC:Events for SpacePolicyOnline.com
REFRESH-INTERVAL;VALUE=DURATION:PT1H
X-Robots-Tag:noindex
X-PUBLISHED-TTL:PT1H
BEGIN:VTIMEZONE
TZID:America/New_York
BEGIN:DAYLIGHT
TZOFFSETFROM:-0500
TZOFFSETTO:-0400
TZNAME:EDT
DTSTART:20220313T070000
END:DAYLIGHT
BEGIN:STANDARD
TZOFFSETFROM:-0400
TZOFFSETTO:-0500
TZNAME:EST
DTSTART:20221106T060000
END:STANDARD
BEGIN:DAYLIGHT
TZOFFSETFROM:-0500
TZOFFSETTO:-0400
TZNAME:EDT
DTSTART:20230312T070000
END:DAYLIGHT
BEGIN:STANDARD
TZOFFSETFROM:-0400
TZOFFSETTO:-0500
TZNAME:EST
DTSTART:20231105T060000
END:STANDARD
BEGIN:DAYLIGHT
TZOFFSETFROM:-0500
TZOFFSETTO:-0400
TZNAME:EDT
DTSTART:20240310T070000
END:DAYLIGHT
BEGIN:STANDARD
TZOFFSETFROM:-0400
TZOFFSETTO:-0500
TZNAME:EST
DTSTART:20241103T060000
END:STANDARD
END:VTIMEZONE
BEGIN:VEVENT
DTSTART;TZID=America/New_York:20230115T073000
DTEND;TZID=America/New_York:20230119T230000
DTSTAMP:20260422T084503
CREATED:20230108T230025Z
LAST-MODIFIED:20230108T230025Z
UID:59188-1673767800-1674169200@spacepolicyonline.com
SUMMARY:AAS/AIAA SPACE FLIGHT MECHANICS MEETING\, Jan 15-19\, 2023\, Austin\, TX
DESCRIPTION:The American Astronautical Society and the American Institute of Aeronautics and Astronautics will hold the 33rd AAS/AIAA Space Flight Mechanics meeting in Austin\, TX from January 15-19\, 2023. \nMore information is on the event’s website.
URL:https://spacepolicyonline.com/events/aas-aiaa-space-flight-mechanics-meeting-jan-15-19-2023-austin-tx/
END:VEVENT
END:VCALENDAR