BEGIN:VCALENDAR
VERSION:2.0
PRODID:-//SpacePolicyOnline.com - ECPv6.15.11//NONSGML v1.0//EN
CALSCALE:GREGORIAN
METHOD:PUBLISH
X-WR-CALNAME:SpacePolicyOnline.com
X-ORIGINAL-URL:https://spacepolicyonline.com
X-WR-CALDESC:Events for SpacePolicyOnline.com
REFRESH-INTERVAL;VALUE=DURATION:PT1H
X-Robots-Tag:noindex
X-PUBLISHED-TTL:PT1H
BEGIN:VTIMEZONE
TZID:America/New_York
BEGIN:DAYLIGHT
TZOFFSETFROM:-0500
TZOFFSETTO:-0400
TZNAME:EDT
DTSTART:20230312T070000
END:DAYLIGHT
BEGIN:STANDARD
TZOFFSETFROM:-0400
TZOFFSETTO:-0500
TZNAME:EST
DTSTART:20231105T060000
END:STANDARD
BEGIN:DAYLIGHT
TZOFFSETFROM:-0500
TZOFFSETTO:-0400
TZNAME:EDT
DTSTART:20240310T070000
END:DAYLIGHT
BEGIN:STANDARD
TZOFFSETFROM:-0400
TZOFFSETTO:-0500
TZNAME:EST
DTSTART:20241103T060000
END:STANDARD
BEGIN:DAYLIGHT
TZOFFSETFROM:-0500
TZOFFSETTO:-0400
TZNAME:EDT
DTSTART:20250309T070000
END:DAYLIGHT
BEGIN:STANDARD
TZOFFSETFROM:-0400
TZOFFSETTO:-0500
TZNAME:EST
DTSTART:20251102T060000
END:STANDARD
END:VTIMEZONE
BEGIN:VEVENT
DTSTART;TZID=America/New_York:20241210T070000
DTEND;TZID=America/New_York:20241211T230000
DTSTAMP:20260420T100619
CREATED:20241207T212117Z
LAST-MODIFIED:20241207T212134Z
UID:76411-1733814000-1733958000@spacepolicyonline.com
SUMMARY:ABU DHABI SPACE DEBATE\, Dec 10-11\, 2024\, Abu Dhabi
DESCRIPTION:The 2024 Abu Dhabi Space Debate will take place December 10-11\, 2024 in Abu Dhabi\, UAE. \nThe overall theme is: From Earth to Orbit: A Space for Action and Accountability. \nMore information\, including the agenda\, is on the event’s website.  It does not indicate if a virtual option is available.
URL:https://spacepolicyonline.com/events/abu-dhabi-space-debate-dec-10-11-2024-abu-dhabi/
END:VEVENT
END:VCALENDAR