BEGIN:VCALENDAR
VERSION:2.0
PRODID:-//SpacePolicyOnline.com - ECPv6.15.11//NONSGML v1.0//EN
CALSCALE:GREGORIAN
METHOD:PUBLISH
X-WR-CALNAME:SpacePolicyOnline.com
X-ORIGINAL-URL:https://spacepolicyonline.com
X-WR-CALDESC:Events for SpacePolicyOnline.com
REFRESH-INTERVAL;VALUE=DURATION:PT1H
X-Robots-Tag:noindex
X-PUBLISHED-TTL:PT1H
BEGIN:VTIMEZONE
TZID:America/New_York
BEGIN:DAYLIGHT
TZOFFSETFROM:-0500
TZOFFSETTO:-0400
TZNAME:EDT
DTSTART:20190310T070000
END:DAYLIGHT
BEGIN:STANDARD
TZOFFSETFROM:-0400
TZOFFSETTO:-0500
TZNAME:EST
DTSTART:20191103T060000
END:STANDARD
BEGIN:DAYLIGHT
TZOFFSETFROM:-0500
TZOFFSETTO:-0400
TZNAME:EDT
DTSTART:20200308T070000
END:DAYLIGHT
BEGIN:STANDARD
TZOFFSETFROM:-0400
TZOFFSETTO:-0500
TZNAME:EST
DTSTART:20201101T060000
END:STANDARD
BEGIN:DAYLIGHT
TZOFFSETFROM:-0500
TZOFFSETTO:-0400
TZNAME:EDT
DTSTART:20210314T070000
END:DAYLIGHT
BEGIN:STANDARD
TZOFFSETFROM:-0400
TZOFFSETTO:-0500
TZNAME:EST
DTSTART:20211107T060000
END:STANDARD
END:VTIMEZONE
BEGIN:VEVENT
DTSTART;TZID=America/New_York:20201211T080000
DTEND;TZID=America/New_York:20201211T170000
DTSTAMP:20260419T111912
CREATED:20201211T215536Z
LAST-MODIFIED:20201211T215536Z
UID:39868-1607673600-1607706000@spacepolicyonline.com
SUMMARY:ACCELERATING AIR\, SPACE AND CYBER DIGITAL TRANSFORMATION (AFCEA NOVA)\, Dec 15\, 2020\, virtual\, 9:00 am-4:30 pm ET
DESCRIPTION:The AFCEA Northern Virginia (NOVA) chapter will hold its Air and Space Forces IT Day 2020 virtually on December 15\, 2020 from 9:00 am – 4:30 pm ET. \nThe theme is: Accelerating Air\, Space and Cyber Digital Transformation \nSome of the sessions celebrate the 1st anniversary of creation of the U.S. Space Force. \nMore information including the agenda are on the event’s website.
URL:https://spacepolicyonline.com/events/accelerating-air-space-and-cyber-digital-transformation-afcea-nova-dec-15-2020-virtual-900-am-430-pm-et/
END:VEVENT
END:VCALENDAR