BEGIN:VCALENDAR
VERSION:2.0
PRODID:-//SpacePolicyOnline.com - ECPv6.15.11//NONSGML v1.0//EN
CALSCALE:GREGORIAN
METHOD:PUBLISH
X-WR-CALNAME:SpacePolicyOnline.com
X-ORIGINAL-URL:https://spacepolicyonline.com
X-WR-CALDESC:Events for SpacePolicyOnline.com
REFRESH-INTERVAL;VALUE=DURATION:PT1H
X-Robots-Tag:noindex
X-PUBLISHED-TTL:PT1H
BEGIN:VTIMEZONE
TZID:America/New_York
BEGIN:DAYLIGHT
TZOFFSETFROM:-0500
TZOFFSETTO:-0400
TZNAME:EDT
DTSTART:20200308T070000
END:DAYLIGHT
BEGIN:STANDARD
TZOFFSETFROM:-0400
TZOFFSETTO:-0500
TZNAME:EST
DTSTART:20201101T060000
END:STANDARD
BEGIN:DAYLIGHT
TZOFFSETFROM:-0500
TZOFFSETTO:-0400
TZNAME:EDT
DTSTART:20210314T070000
END:DAYLIGHT
BEGIN:STANDARD
TZOFFSETFROM:-0400
TZOFFSETTO:-0500
TZNAME:EST
DTSTART:20211107T060000
END:STANDARD
BEGIN:DAYLIGHT
TZOFFSETFROM:-0500
TZOFFSETTO:-0400
TZNAME:EDT
DTSTART:20220313T070000
END:DAYLIGHT
BEGIN:STANDARD
TZOFFSETFROM:-0400
TZOFFSETTO:-0500
TZNAME:EST
DTSTART:20221106T060000
END:STANDARD
END:VTIMEZONE
BEGIN:VEVENT
DTSTART;TZID=America/New_York:20211102T113000
DTEND;TZID=America/New_York:20211102T230000
DTSTAMP:20260420T182119
CREATED:20211030T210653Z
LAST-MODIFIED:20211030T211507Z
UID:47855-1635852600-1635894000@spacepolicyonline.com
SUMMARY:ACCELERATING GOVT AND COMMERCIAL COLLABORATION IN THE NEW SPACE AGE\, Nov 2\, 2021\, virtual\, 11:30 am ET
DESCRIPTION:The Aerospace Corporation will hold a virtual fireside chat on November 2\, 2021 at 8:30 am Pacific Time (11:30 am Eastern) on “Full Speed Ahead: Accelerating Government and Commercial Collaboration in the New Space Age.” \nParticipants are: \n\nSteve Isakowitz\, President and CEO\, The Aerospace Corporation\nGen. David D. “DT” Thompson\, Vice Chief of Space Operations\, U.S. Space Force\nAlexander McDonald\, Chief Economist\, NASA\n\nMore information is on the event’s website.
URL:https://spacepolicyonline.com/events/accelerating-govt-and-commercial-collaboration-in-the-new-space-age-nov-2-2021-virtual-1130-am-et/
END:VEVENT
END:VCALENDAR