BEGIN:VCALENDAR
VERSION:2.0
PRODID:-//SpacePolicyOnline.com - ECPv6.15.11//NONSGML v1.0//EN
CALSCALE:GREGORIAN
METHOD:PUBLISH
X-WR-CALNAME:SpacePolicyOnline.com
X-ORIGINAL-URL:https://spacepolicyonline.com
X-WR-CALDESC:Events for SpacePolicyOnline.com
REFRESH-INTERVAL;VALUE=DURATION:PT1H
X-Robots-Tag:noindex
X-PUBLISHED-TTL:PT1H
BEGIN:VTIMEZONE
TZID:America/New_York
BEGIN:DAYLIGHT
TZOFFSETFROM:-0500
TZOFFSETTO:-0400
TZNAME:EDT
DTSTART:20180311T070000
END:DAYLIGHT
BEGIN:STANDARD
TZOFFSETFROM:-0400
TZOFFSETTO:-0500
TZNAME:EST
DTSTART:20181104T060000
END:STANDARD
BEGIN:DAYLIGHT
TZOFFSETFROM:-0500
TZOFFSETTO:-0400
TZNAME:EDT
DTSTART:20190310T070000
END:DAYLIGHT
BEGIN:STANDARD
TZOFFSETFROM:-0400
TZOFFSETTO:-0500
TZNAME:EST
DTSTART:20191103T060000
END:STANDARD
BEGIN:DAYLIGHT
TZOFFSETFROM:-0500
TZOFFSETTO:-0400
TZNAME:EDT
DTSTART:20200308T070000
END:DAYLIGHT
BEGIN:STANDARD
TZOFFSETFROM:-0400
TZOFFSETTO:-0500
TZNAME:EST
DTSTART:20201101T060000
END:STANDARD
END:VTIMEZONE
BEGIN:VEVENT
DTSTART;TZID=America/New_York:20190201T073000
DTEND;TZID=America/New_York:20190201T230000
DTSTAMP:20260423T000539
CREATED:20181229T194006Z
LAST-MODIFIED:20181229T194006Z
UID:23130-1549006200-1549062000@spacepolicyonline.com
SUMMARY:AFA BREAKFAST SERIES FEATURING WILL ROPER\, ASST SECAF FOR ATL\, Feb 1\, 2019\, DC\, 7:30-9:00 am ET
DESCRIPTION:The Air Force Association (AFA) will hold one of its Breakfast Series events on February 1\, 2019 at the Capitol Hill Club\, 300 First St.\, SE\, Washington\, DC from 7:30-9:00 am ET.  The speaker is Will Roper\, Assistant Secretary of the Air Force for Acquisition\, Technology\, and Logistics. \nRegistrations and other information are on the AFA website.
URL:https://spacepolicyonline.com/events/afa-breakfast-series-featuring-will-roper-asst-secaf-for-atl-feb-1-2019-dc-730-900-am-et/
END:VEVENT
END:VCALENDAR