BEGIN:VCALENDAR
VERSION:2.0
PRODID:-//SpacePolicyOnline.com - ECPv6.15.11//NONSGML v1.0//EN
CALSCALE:GREGORIAN
METHOD:PUBLISH
X-WR-CALNAME:SpacePolicyOnline.com
X-ORIGINAL-URL:https://spacepolicyonline.com
X-WR-CALDESC:Events for SpacePolicyOnline.com
REFRESH-INTERVAL;VALUE=DURATION:PT1H
X-Robots-Tag:noindex
X-PUBLISHED-TTL:PT1H
BEGIN:VTIMEZONE
TZID:America/New_York
BEGIN:DAYLIGHT
TZOFFSETFROM:-0500
TZOFFSETTO:-0400
TZNAME:EDT
DTSTART:20210314T070000
END:DAYLIGHT
BEGIN:STANDARD
TZOFFSETFROM:-0400
TZOFFSETTO:-0500
TZNAME:EST
DTSTART:20211107T060000
END:STANDARD
BEGIN:DAYLIGHT
TZOFFSETFROM:-0500
TZOFFSETTO:-0400
TZNAME:EDT
DTSTART:20220313T070000
END:DAYLIGHT
BEGIN:STANDARD
TZOFFSETFROM:-0400
TZOFFSETTO:-0500
TZNAME:EST
DTSTART:20221106T060000
END:STANDARD
BEGIN:DAYLIGHT
TZOFFSETFROM:-0500
TZOFFSETTO:-0400
TZNAME:EDT
DTSTART:20230312T070000
END:DAYLIGHT
BEGIN:STANDARD
TZOFFSETFROM:-0400
TZOFFSETTO:-0500
TZNAME:EST
DTSTART:20231105T060000
END:STANDARD
END:VTIMEZONE
BEGIN:VEVENT
DTSTART;TZID=America/New_York:20220210T080000
DTEND;TZID=America/New_York:20220210T230000
DTSTAMP:20260420T005626
CREATED:20220209T233747Z
LAST-MODIFIED:20220209T233747Z
UID:50405-1644480000-1644534000@spacepolicyonline.com
SUMMARY:AFCEA NOVA SPACE FORCE IT DAY 2022\, Feb 10\, 2022\, Herndon\, VA/hybrid
DESCRIPTION:The Northern Virginia (NOVA) chapter of AFCEA will hold a hybrid event on February 10\, 2022 entitled “Advancing Space Force Priorities: Delivering New Capabilities and Accelerating Innovation.” \nThe in-person sessions are at the Westin Washington Dulles Airport hotel in Herndon\, VA. \nGen. David Thompson\, Vice Chief of Space Operations\, U.S. Space Force\, is an in-person keynote speaker. \nMore information and the agenda are on the event’s website.
URL:https://spacepolicyonline.com/events/afcea-nova-space-force-it-day-2022-feb-10-2022-herndon-va-hybrid/
END:VEVENT
END:VCALENDAR