BEGIN:VCALENDAR
VERSION:2.0
PRODID:-//SpacePolicyOnline.com - ECPv6.15.11//NONSGML v1.0//EN
CALSCALE:GREGORIAN
METHOD:PUBLISH
X-WR-CALNAME:SpacePolicyOnline.com
X-ORIGINAL-URL:https://spacepolicyonline.com
X-WR-CALDESC:Events for SpacePolicyOnline.com
REFRESH-INTERVAL;VALUE=DURATION:PT1H
X-Robots-Tag:noindex
X-PUBLISHED-TTL:PT1H
BEGIN:VTIMEZONE
TZID:America/New_York
BEGIN:DAYLIGHT
TZOFFSETFROM:-0500
TZOFFSETTO:-0400
TZNAME:EDT
DTSTART:20200308T070000
END:DAYLIGHT
BEGIN:STANDARD
TZOFFSETFROM:-0400
TZOFFSETTO:-0500
TZNAME:EST
DTSTART:20201101T060000
END:STANDARD
BEGIN:DAYLIGHT
TZOFFSETFROM:-0500
TZOFFSETTO:-0400
TZNAME:EDT
DTSTART:20210314T070000
END:DAYLIGHT
BEGIN:STANDARD
TZOFFSETFROM:-0400
TZOFFSETTO:-0500
TZNAME:EST
DTSTART:20211107T060000
END:STANDARD
BEGIN:DAYLIGHT
TZOFFSETFROM:-0500
TZOFFSETTO:-0400
TZNAME:EDT
DTSTART:20220313T070000
END:DAYLIGHT
BEGIN:STANDARD
TZOFFSETFROM:-0400
TZOFFSETTO:-0500
TZNAME:EST
DTSTART:20221106T060000
END:STANDARD
END:VTIMEZONE
BEGIN:VEVENT
DTSTART;TZID=America/New_York:20211213T073000
DTEND;TZID=America/New_York:20211217T230000
DTSTAMP:20260420T142025
CREATED:20210410T185624Z
LAST-MODIFIED:20211207T145540Z
UID:42956-1639380600-1639782000@spacepolicyonline.com
SUMMARY:AGU FALL MEETING (INCL NASA EVENTS)\, Dec 13-17\, 2021\, New Orleans and virtual
DESCRIPTION:The American Geophysical Union (AGU) will hold its 2021 fall meeting from December 13-17\, 2021 in a hybrid mode in New Orleans\, LA and virtually. \nMore information is on the event’s website. \nNASA will hold a series of press conferences and other events during the meeting as laid out in a NASA press release and reproduced below. \n\n\nDec 6\, 2021\n\n\n\n\n\n\nNASA Press Events at the 2021 Fall AGU Meeting\n\n\n\n\nNASA-related press events at AGU are as follows. (Access to some briefings require registration for the meeting.) All times Eastern: \nVIRTUAL EXHIBIT \nIn addition to its hyperwall\, learning area\, and exhibit area socially distanced onsite in New Orleans\, NASA will also host virtual exhibit for AGU\, which will feature a Science Theater\, live chat opportunities\, download of the NASA Science calendar\, specially curated resources\, and more. The exhibit will be open to the public Dec. 13-17. \nMonday\, Dec. 13 \n2 p.m. – Roundtable: Upcoming NASA Earth Science Launches and the Future of Satellite Observations \nNASA and its partners will be launching four Earth observing missions in 2022. These missions come in different shapes and sizes\, from a fleet of CubeSats monitoring hurricanes (TROPICS) to an instrument on the International Space Station tasked with mapping sources of mineral dust and aerosol travel in the atmosphere (EMIT). They include two Earth Observing satellites: JPSS-2 which will monitor fires\, floods\, stratospheric ozone\, night lights\, and more that contribute to weather prediction and long-term climate records; and SWOT\, or Surface Water Ocean Topography\, which will complement the current generation of hydrology and ocean monitoring satellites by providing measurements of the height of oceans\, rivers\, and lakes. At this roundtable\, the principle investigators will give a brief overview of each mission\, and insights into the science questions and societal needs they are trying to help solve. \n\nWilliam J. Blackwell\, MIT Lincoln Laboratory\nRobert O. Green\, NASA’s Jet Propulsion Laboratory\nLee-Lueng Fu\, NASA’s Jet Propulsion Laboratory\nSatya Kalluri\, NOAA\n\nTuesday\, Dec. 14 \nNoon – Press Conference: Major Discoveries as NASA’s Parker Solar Probe Closes in on the Sun \nNASA’s Parker Solar Probe launched in 2018 to study the Sun’s biggest mysteries. Now\, the spacecraft is gathering new close-up observations\, allowing us to see the Sun like never before. In this press conference\, mission scientists will share a big announcement based on Parker Solar Probe’s latest observations of our star. The findings are helping researchers answer fundamental questions about the Sun. \n\nStuart Bale\, University of California\, Berkeley\nNour Raouafi\, The Johns Hopkins Applied Physics Laboratory\nJustin Kasper\, University of Michigan\, BWX Technologies\, Inc.\nKelly Korreck\, NASA Headquarters\, Smithsonian Astrophysical Observatory\n\nWednesday\, Dec. 15 \nNoon – Press Conference: Ten Months of Perseverance: Jezero Science \nNASA’s Perseverance Mars rover has spent the 10 months since its landing exploring two very different geologic units on the Jezero crater floor. After exploring and taking its first two samples from the Crater Floor geologic unit\, Perseverance entered Séítah geologic unit in October. The rover has spent the last several months analyzing multiple outcrops of Séítah\, allowing the science team to begin to understand the relationship between these unique geologic units and their place in the geologic history of Jezero. This session will discuss the scientific discoveries Perseverance’s on-board investigations have made to date\, and what explorations are still to come – in Séítah\, and down the road at the crater’s intriguing ancient river delta. \n\nKen Farley\, Caltech\nSanjeev Gupta\, Imperial College\, London\nBriony Horgan\, Purdue University\nEva Scheller\, Caltech\nKelsey Moore\, Caltech\n\nFriday\, Dec. 17 \nNoon – Press Conference: Latest Science from the Biggest Story in Solar System – NASA’s Juno Mission to Jupiter \nNASA’s Juno mission recently completed its 38th close-up pass of Jupiter. This press conference will include the latest results on the gas giant’s Great Blue Spot\, magnetosphere\, rings\, sounds of Ganymede’s magnetosphere\, and how Earth’s oceans can help explain Jupiter’s polar cyclones. The latest imagery contributions of the mission’s citizen scientists will also be highlighted. \n\nScott Bolton\, Southwest Research Institute\nLia Siegelman\, Scripps Institution of Oceanography\nJack Connerney\, NASA Goddard Space Flight Center
URL:https://spacepolicyonline.com/events/agu-fall-meeting-dec-13-17-2021-new-orleans-and-virtual/
END:VEVENT
END:VCALENDAR