BEGIN:VCALENDAR
VERSION:2.0
PRODID:-//SpacePolicyOnline.com - ECPv6.15.11//NONSGML v1.0//EN
CALSCALE:GREGORIAN
METHOD:PUBLISH
X-WR-CALNAME:SpacePolicyOnline.com
X-ORIGINAL-URL:https://spacepolicyonline.com
X-WR-CALDESC:Events for SpacePolicyOnline.com
REFRESH-INTERVAL;VALUE=DURATION:PT1H
X-Robots-Tag:noindex
X-PUBLISHED-TTL:PT1H
BEGIN:VTIMEZONE
TZID:America/New_York
BEGIN:DAYLIGHT
TZOFFSETFROM:-0500
TZOFFSETTO:-0400
TZNAME:EDT
DTSTART:20220313T070000
END:DAYLIGHT
BEGIN:STANDARD
TZOFFSETFROM:-0400
TZOFFSETTO:-0500
TZNAME:EST
DTSTART:20221106T060000
END:STANDARD
BEGIN:DAYLIGHT
TZOFFSETFROM:-0500
TZOFFSETTO:-0400
TZNAME:EDT
DTSTART:20230312T070000
END:DAYLIGHT
BEGIN:STANDARD
TZOFFSETFROM:-0400
TZOFFSETTO:-0500
TZNAME:EST
DTSTART:20231105T060000
END:STANDARD
BEGIN:DAYLIGHT
TZOFFSETFROM:-0500
TZOFFSETTO:-0400
TZNAME:EDT
DTSTART:20240310T070000
END:DAYLIGHT
BEGIN:STANDARD
TZOFFSETFROM:-0400
TZOFFSETTO:-0500
TZNAME:EST
DTSTART:20241103T060000
END:STANDARD
END:VTIMEZONE
BEGIN:VEVENT
DTSTART;TZID=America/New_York:20230316T140000
DTEND;TZID=America/New_York:20230316T230000
DTSTAMP:20260420T203339
CREATED:20230314T124408Z
LAST-MODIFIED:20230314T124408Z
UID:60658-1678975200-1679007600@spacepolicyonline.com
SUMMARY:AIA WEBINAR ON FY2024 BUDGET REQUEST FOR CIVIL AND CMRCL SPACE\, Mar 16\, 2023\, virtual\, 2:00 pm ET
DESCRIPTION:The Aerospace Industries Association (AIA) will hold a webinar on March 16\, 2023 at 2:00 pm ET to discuss the FY2024 budget request for civil and commercial space programs. \nSpeakers are: \n\nCasey Dreier\, Chief of Space Policy\, The Planetary Society\nJean Toal Eisen\, Vice President of Corporate Strategy\, Association of Universities for Research in Astronomy (AURA) (and a former Senate Appropriations Committee staffer)\nMike French\, Vice President of Space Systems\, AIA (formerly NASA Chief of Staff)\n\nMore information and the Zoom link are in the emailed announcement which is reproduced below: \n  \nFY24 Budget First Look: Civil and Commercial Space \nMarch 16\, 2023 at 2PM ET \nMeeting Information Below \n Budget veterans Casey Dreier\, Jean Toal Eisen\, and Mike French share their initial takes on the President’s FY24 budget for NASA\, NOAA\, FAA\, the Office of Space Commerce\, and other areas important to civil and commercial space. \nCasey Dreier is Chief of Space Policy at The Planetary Society where he leads advocacy and policy efforts to advance planetary exploration\, planetary defense\, and the search for life. \nJean Toal Eisen is Vice President of Corporate Strategy at the Association of Universities for Research in Astronomy (AURA) and previously served in senior positions with the U.S. Senate Committee on Appropriations and the Department of Commerce. \nMike French is Vice President of Space Systems at the Aerospace Industries Association (AIA) and previously served as NASA Chief of Staff. \nHow to Join \nPlease click the link below to join the webinar: \nhttps://www.zoomgov.com/j/1609672577 \nOr One tap mobile : \n    US: +16692545252\,\,1609672577#  or +16469641167\,\,1609672577# \nOr Telephone: \n    Dial(for higher quality\, dial a number based on your current location): \n        US: +1 669 254 5252  or +1 646 964 1167  or +1 646 828 7666  or +1 551 285 1373  or +1 669 216 1590  or +1 415 449 4000 \nWebinar ID: 160 967 2577
URL:https://spacepolicyonline.com/events/aia-webinar-on-fy2024-budget-request-for-civil-and-cmrcl-space-mar-16-2023-virtual-200-pm-et/
END:VEVENT
END:VCALENDAR