BEGIN:VCALENDAR
VERSION:2.0
PRODID:-//SpacePolicyOnline.com - ECPv6.15.11//NONSGML v1.0//EN
CALSCALE:GREGORIAN
METHOD:PUBLISH
X-WR-CALNAME:SpacePolicyOnline.com
X-ORIGINAL-URL:https://spacepolicyonline.com
X-WR-CALDESC:Events for SpacePolicyOnline.com
REFRESH-INTERVAL;VALUE=DURATION:PT1H
X-Robots-Tag:noindex
X-PUBLISHED-TTL:PT1H
BEGIN:VTIMEZONE
TZID:America/New_York
BEGIN:DAYLIGHT
TZOFFSETFROM:-0500
TZOFFSETTO:-0400
TZNAME:EDT
DTSTART:20180311T070000
END:DAYLIGHT
BEGIN:STANDARD
TZOFFSETFROM:-0400
TZOFFSETTO:-0500
TZNAME:EST
DTSTART:20181104T060000
END:STANDARD
BEGIN:DAYLIGHT
TZOFFSETFROM:-0500
TZOFFSETTO:-0400
TZNAME:EDT
DTSTART:20190310T070000
END:DAYLIGHT
BEGIN:STANDARD
TZOFFSETFROM:-0400
TZOFFSETTO:-0500
TZNAME:EST
DTSTART:20191103T060000
END:STANDARD
BEGIN:DAYLIGHT
TZOFFSETFROM:-0500
TZOFFSETTO:-0400
TZNAME:EDT
DTSTART:20200308T070000
END:DAYLIGHT
BEGIN:STANDARD
TZOFFSETFROM:-0400
TZOFFSETTO:-0500
TZNAME:EST
DTSTART:20201101T060000
END:STANDARD
END:VTIMEZONE
BEGIN:VEVENT
DTSTART;TZID=America/New_York:20190515T180000
DTEND;TZID=America/New_York:20190515T230000
DTSTAMP:20260422T174502
CREATED:20190503T155006Z
LAST-MODIFIED:20190503T155006Z
UID:25728-1557943200-1557961200@spacepolicyonline.com
SUMMARY:AIAA AEROSPACE SPOTLIGHT AWARDS GALA\, May 15\, 2019\, DC\, 6:00 pm ET
DESCRIPTION:The American Institute of Aeronautics and Astronautics (AIAA) will hold it 2019 Aerospace Spotlight Awards Gala on May 15\, 2019 at the Ronald Reagan Building and International Trade Center in Washington\, DC beginning at 6:00 pm ET. \nDetails are on the event’s website. \nAward recipients are: \n\nAIAA Goddard Astronautics Award – John L. Junkins\, Texas A&M University\nAIAA Reed Aeronautics Award – Philippe R. Spalart\, The Boeing Company\nAIAA Distinguished Service Award – Klaus D. Dannenberg\, American Institute of Aeronautics and Astronautics (retired)\nAIAA Public Service Award – Pamela A. Melroy\, Melroy & Hollett Technology Partners and Nova Systems\nAIAA Lawrence Sperry Award – Katya M. Casper\, Sandia National Laboratories
URL:https://spacepolicyonline.com/events/aiaa-aerospace-spotlight-awards-gala-may-15-2019-dc-600-pm-et/
END:VEVENT
END:VCALENDAR