BEGIN:VCALENDAR
VERSION:2.0
PRODID:-//SpacePolicyOnline.com - ECPv6.15.11//NONSGML v1.0//EN
CALSCALE:GREGORIAN
METHOD:PUBLISH
X-WR-CALNAME:SpacePolicyOnline.com
X-ORIGINAL-URL:https://spacepolicyonline.com
X-WR-CALDESC:Events for SpacePolicyOnline.com
REFRESH-INTERVAL;VALUE=DURATION:PT1H
X-Robots-Tag:noindex
X-PUBLISHED-TTL:PT1H
BEGIN:VTIMEZONE
TZID:America/New_York
BEGIN:DAYLIGHT
TZOFFSETFROM:-0500
TZOFFSETTO:-0400
TZNAME:EDT
DTSTART:20220313T070000
END:DAYLIGHT
BEGIN:STANDARD
TZOFFSETFROM:-0400
TZOFFSETTO:-0500
TZNAME:EST
DTSTART:20221106T060000
END:STANDARD
BEGIN:DAYLIGHT
TZOFFSETFROM:-0500
TZOFFSETTO:-0400
TZNAME:EDT
DTSTART:20230312T070000
END:DAYLIGHT
BEGIN:STANDARD
TZOFFSETFROM:-0400
TZOFFSETTO:-0500
TZNAME:EST
DTSTART:20231105T060000
END:STANDARD
BEGIN:DAYLIGHT
TZOFFSETFROM:-0500
TZOFFSETTO:-0400
TZNAME:EDT
DTSTART:20240310T070000
END:DAYLIGHT
BEGIN:STANDARD
TZOFFSETFROM:-0400
TZOFFSETTO:-0500
TZNAME:EST
DTSTART:20241103T060000
END:STANDARD
END:VTIMEZONE
BEGIN:VEVENT
DTSTART;TZID=America/New_York:20230528T073000
DTEND;TZID=America/New_York:20230601T230000
DTSTAMP:20260421T051344
CREATED:20221228T215539Z
LAST-MODIFIED:20221228T215539Z
UID:58994-1685259000-1685660400@spacepolicyonline.com
SUMMARY:AIAA INTL SPACE PLANES AND HYPERSONIC SYSTEMS AND TECH CONF\, May 28-June 1\, 2023\, Bengaluru\, India
DESCRIPTION:The American Institute of Aeronautics and Astronautics (AIAA) will hold its 2023 International Space Planes and Hypersonic Systems and Technologies Conference from May 28-June 1\, 2023 at the Sheraton Grand Bangalore Hotel at Brigade Gateway\, Bengaluru\, Karnataka\, India. \nMore information is on the event’s website.
URL:https://spacepolicyonline.com/events/aiaa-intl-space-planes-and-hypersonic-systems-and-tech-conf-may-28-june-1-2023-bengaluru-india/
END:VEVENT
END:VCALENDAR