BEGIN:VCALENDAR
VERSION:2.0
PRODID:-//SpacePolicyOnline.com - ECPv6.15.11//NONSGML v1.0//EN
CALSCALE:GREGORIAN
METHOD:PUBLISH
X-WR-CALNAME:SpacePolicyOnline.com
X-ORIGINAL-URL:https://spacepolicyonline.com
X-WR-CALDESC:Events for SpacePolicyOnline.com
REFRESH-INTERVAL;VALUE=DURATION:PT1H
X-Robots-Tag:noindex
X-PUBLISHED-TTL:PT1H
BEGIN:VTIMEZONE
TZID:America/New_York
BEGIN:DAYLIGHT
TZOFFSETFROM:-0500
TZOFFSETTO:-0400
TZNAME:EDT
DTSTART:20210314T070000
END:DAYLIGHT
BEGIN:STANDARD
TZOFFSETFROM:-0400
TZOFFSETTO:-0500
TZNAME:EST
DTSTART:20211107T060000
END:STANDARD
BEGIN:DAYLIGHT
TZOFFSETFROM:-0500
TZOFFSETTO:-0400
TZNAME:EDT
DTSTART:20220313T070000
END:DAYLIGHT
BEGIN:STANDARD
TZOFFSETFROM:-0400
TZOFFSETTO:-0500
TZNAME:EST
DTSTART:20221106T060000
END:STANDARD
BEGIN:DAYLIGHT
TZOFFSETFROM:-0500
TZOFFSETTO:-0400
TZNAME:EDT
DTSTART:20230312T070000
END:DAYLIGHT
BEGIN:STANDARD
TZOFFSETFROM:-0400
TZOFFSETTO:-0500
TZNAME:EST
DTSTART:20231105T060000
END:STANDARD
END:VTIMEZONE
BEGIN:VEVENT
DTSTART;TZID=America/New_York:20220215T120000
DTEND;TZID=America/New_York:20220215T230000
DTSTAMP:20260420T011030
CREATED:20220113T221549Z
LAST-MODIFIED:20220113T221549Z
UID:49761-1644926400-1644966000@spacepolicyonline.com
SUMMARY:AIAA POLICY WEBINAR WITH NASA'S BHAVYA LAL\, Feb 15\, 2022\, virtual\, 12:00 pm ET
DESCRIPTION:The American Institute of Aeronautics and Astronautics (AIAA) will hold a policy webinar on February 15\, 2022 at 12:00 pm ET with Dr. Bhavya Lal\, NASA Associate Administrator for the new Office of Technology\, Policy and Strategy. \nThis virtual meeting is in lieu of an in-person breakfast that had been scheduled for January 27\, but cancelled due to the omicron COVID outbreak. \nMore information on the virtual event is on its website.
URL:https://spacepolicyonline.com/events/aiaa-policy-webinar-with-nasas-bhavya-lal-feb-15-2022-virtual-1200-pm-et/
END:VEVENT
END:VCALENDAR