BEGIN:VCALENDAR
VERSION:2.0
PRODID:-//SpacePolicyOnline.com - ECPv6.15.11//NONSGML v1.0//EN
CALSCALE:GREGORIAN
METHOD:PUBLISH
X-WR-CALNAME:SpacePolicyOnline.com
X-ORIGINAL-URL:https://spacepolicyonline.com
X-WR-CALDESC:Events for SpacePolicyOnline.com
REFRESH-INTERVAL;VALUE=DURATION:PT1H
X-Robots-Tag:noindex
X-PUBLISHED-TTL:PT1H
BEGIN:VTIMEZONE
TZID:America/New_York
BEGIN:DAYLIGHT
TZOFFSETFROM:-0500
TZOFFSETTO:-0400
TZNAME:EDT
DTSTART:20180311T070000
END:DAYLIGHT
BEGIN:STANDARD
TZOFFSETFROM:-0400
TZOFFSETTO:-0500
TZNAME:EST
DTSTART:20181104T060000
END:STANDARD
BEGIN:DAYLIGHT
TZOFFSETFROM:-0500
TZOFFSETTO:-0400
TZNAME:EDT
DTSTART:20190310T070000
END:DAYLIGHT
BEGIN:STANDARD
TZOFFSETFROM:-0400
TZOFFSETTO:-0500
TZNAME:EST
DTSTART:20191103T060000
END:STANDARD
BEGIN:DAYLIGHT
TZOFFSETFROM:-0500
TZOFFSETTO:-0400
TZNAME:EDT
DTSTART:20200308T070000
END:DAYLIGHT
BEGIN:STANDARD
TZOFFSETFROM:-0400
TZOFFSETTO:-0500
TZNAME:EST
DTSTART:20201101T060000
END:STANDARD
END:VTIMEZONE
BEGIN:VEVENT
DTSTART;TZID=America/New_York:20190911T080000
DTEND;TZID=America/New_York:20190913T230000
DTSTAMP:20260420T112452
CREATED:20190624T153500Z
LAST-MODIFIED:20190624T153535Z
UID:26953-1568188800-1568415600@spacepolicyonline.com
SUMMARY:AIDA INTERNATIONAL WORKSHOP (ESA/NASA)\, Sept 11-13\, 2019\, Rome\, Italy
DESCRIPTION:The ESA/NASA Asteroid Impact Deflection Assessment (AIDA) workshop will take place September 11-13\, 2019 in the “Aula Ottagona” of the Terme di Diocleziano in Rome\, Italy. \nMore information is on the event’s website.
URL:https://spacepolicyonline.com/events/aida-international-workshop-sept-11-13-2019-rome-italy/
END:VEVENT
END:VCALENDAR