BEGIN:VCALENDAR
VERSION:2.0
PRODID:-//SpacePolicyOnline.com - ECPv6.15.11//NONSGML v1.0//EN
CALSCALE:GREGORIAN
METHOD:PUBLISH
X-WR-CALNAME:SpacePolicyOnline.com
X-ORIGINAL-URL:https://spacepolicyonline.com
X-WR-CALDESC:Events for SpacePolicyOnline.com
REFRESH-INTERVAL;VALUE=DURATION:PT1H
X-Robots-Tag:noindex
X-PUBLISHED-TTL:PT1H
BEGIN:VTIMEZONE
TZID:America/New_York
BEGIN:DAYLIGHT
TZOFFSETFROM:-0500
TZOFFSETTO:-0400
TZNAME:EDT
DTSTART:20180311T070000
END:DAYLIGHT
BEGIN:STANDARD
TZOFFSETFROM:-0400
TZOFFSETTO:-0500
TZNAME:EST
DTSTART:20181104T060000
END:STANDARD
BEGIN:DAYLIGHT
TZOFFSETFROM:-0500
TZOFFSETTO:-0400
TZNAME:EDT
DTSTART:20190310T070000
END:DAYLIGHT
BEGIN:STANDARD
TZOFFSETFROM:-0400
TZOFFSETTO:-0500
TZNAME:EST
DTSTART:20191103T060000
END:STANDARD
BEGIN:DAYLIGHT
TZOFFSETFROM:-0500
TZOFFSETTO:-0400
TZNAME:EDT
DTSTART:20200308T070000
END:DAYLIGHT
BEGIN:STANDARD
TZOFFSETFROM:-0400
TZOFFSETTO:-0500
TZNAME:EST
DTSTART:20201101T060000
END:STANDARD
END:VTIMEZONE
BEGIN:VEVENT
DTSTART;TZID=America/New_York:20190916T080000
DTEND;TZID=America/New_York:20190918T230000
DTSTAMP:20260422T104819
CREATED:20190913T115101Z
LAST-MODIFIED:20190913T115101Z
UID:28846-1568620800-1568847600@spacepolicyonline.com
SUMMARY:AIR\, SPACE\, & CYBER CONFERENCE (AFA)\, Sept 16-18\, 2019\, National Harbor\, MD
DESCRIPTION:The Air Force Association (AFA) will hold its annual Air\, Space & Cyber Conference from September 16-18\, 2019 at the Gaylord National Resort and Conference Center in National Harbor\, MD. \nDetails are on the event’s website.
URL:https://spacepolicyonline.com/events/air-space-cyber-conference-afa-sept-16-18-2019-national-harbor-md/
END:VEVENT
END:VCALENDAR