BEGIN:VCALENDAR
VERSION:2.0
PRODID:-//SpacePolicyOnline.com - ECPv6.15.11//NONSGML v1.0//EN
CALSCALE:GREGORIAN
METHOD:PUBLISH
X-WR-CALNAME:SpacePolicyOnline.com
X-ORIGINAL-URL:https://spacepolicyonline.com
X-WR-CALDESC:Events for SpacePolicyOnline.com
REFRESH-INTERVAL;VALUE=DURATION:PT1H
X-Robots-Tag:noindex
X-PUBLISHED-TTL:PT1H
BEGIN:VTIMEZONE
TZID:America/New_York
BEGIN:DAYLIGHT
TZOFFSETFROM:-0500
TZOFFSETTO:-0400
TZNAME:EDT
DTSTART:20180311T070000
END:DAYLIGHT
BEGIN:STANDARD
TZOFFSETFROM:-0400
TZOFFSETTO:-0500
TZNAME:EST
DTSTART:20181104T060000
END:STANDARD
BEGIN:DAYLIGHT
TZOFFSETFROM:-0500
TZOFFSETTO:-0400
TZNAME:EDT
DTSTART:20190310T070000
END:DAYLIGHT
BEGIN:STANDARD
TZOFFSETFROM:-0400
TZOFFSETTO:-0500
TZNAME:EST
DTSTART:20191103T060000
END:STANDARD
BEGIN:DAYLIGHT
TZOFFSETFROM:-0500
TZOFFSETTO:-0400
TZNAME:EDT
DTSTART:20200308T070000
END:DAYLIGHT
BEGIN:STANDARD
TZOFFSETFROM:-0400
TZOFFSETTO:-0500
TZNAME:EST
DTSTART:20201101T060000
END:STANDARD
END:VTIMEZONE
BEGIN:VEVENT
DTSTART;TZID=America/New_York:20190921T080000
DTEND;TZID=America/New_York:20190922T230000
DTSTAMP:20260422T111447
CREATED:20190913T210841Z
LAST-MODIFIED:20190913T210841Z
UID:28875-1569052800-1569193200@spacepolicyonline.com
SUMMARY:AMELIA EARHART AEROSPACE SUMMIT 2019\, Sept 21-22\, 2019\, West Lafayette\, IN
DESCRIPTION:Purdue University’s Women in Aerospace and Graduate Women’s Group will hold the Amelia Earhart Aerospace Summit 2019 from September 21-22\, 2019 at the Wilmeth Active Learning Center on Purdue’s West Lafayette\, Indiana campus.  It is part of the university’s celebration of its 150th anniversary. \nMore information is on the event’s website. \nThe event is co-sponsored by the American Institute of Aeronautics and Astronautics\, which provides this description: \nThe 2019 Amelia Earhart Aerospace Summit is a national event during Purdue’s 150th anniversary year\, intended to empower all students to pursue careers in aerospace industry\, academia\, and government\, and to provide the opportunity to expand their personal and professional networks through interactions with preeminent leaders in these fields. The event hopes to acknowledge both the gender disparity as well as the significant social and cultural advancements in the aerospace field\, while seeking out ways for students to make an impact. The summit will feature speakers representing a wide variety of aerospace-related fields\, including Virgin Galactic’s Chief Astronaut Instructor\, Beth Moses\, former Assistant U.S. Secretary of the Air Force for Acquisitions\, Sue Payton\, Blue Origin’s Configuration Design Engineer\, Tamaira Ross\, JPL’s Mars2020 Lead Planetary Protection Engineer\, Moogega Cooper Stricker\, and Purdue’s Hsu Lo Distinguished Professor of Aeronautics and Astronautics\, Kathleen Howell. Summit events will include a ‘Careers in Space Exploration’ panel\, a research poster competition\, a research art exhibit\, professional development workshops\, and a banquet. \n 
URL:https://spacepolicyonline.com/events/amelia-earhart-aerospace-summit-2019-sept-21-22-2019-west-lafayette-in/
END:VEVENT
END:VCALENDAR