BEGIN:VCALENDAR
VERSION:2.0
PRODID:-//SpacePolicyOnline.com - ECPv6.15.11//NONSGML v1.0//EN
CALSCALE:GREGORIAN
METHOD:PUBLISH
X-WR-CALNAME:SpacePolicyOnline.com
X-ORIGINAL-URL:https://spacepolicyonline.com
X-WR-CALDESC:Events for SpacePolicyOnline.com
REFRESH-INTERVAL;VALUE=DURATION:PT1H
X-Robots-Tag:noindex
X-PUBLISHED-TTL:PT1H
BEGIN:VTIMEZONE
TZID:America/New_York
BEGIN:DAYLIGHT
TZOFFSETFROM:-0500
TZOFFSETTO:-0400
TZNAME:EDT
DTSTART:20190310T070000
END:DAYLIGHT
BEGIN:STANDARD
TZOFFSETFROM:-0400
TZOFFSETTO:-0500
TZNAME:EST
DTSTART:20191103T060000
END:STANDARD
BEGIN:DAYLIGHT
TZOFFSETFROM:-0500
TZOFFSETTO:-0400
TZNAME:EDT
DTSTART:20200308T070000
END:DAYLIGHT
BEGIN:STANDARD
TZOFFSETFROM:-0400
TZOFFSETTO:-0500
TZNAME:EST
DTSTART:20201101T060000
END:STANDARD
BEGIN:DAYLIGHT
TZOFFSETFROM:-0500
TZOFFSETTO:-0400
TZNAME:EDT
DTSTART:20210314T070000
END:DAYLIGHT
BEGIN:STANDARD
TZOFFSETFROM:-0400
TZOFFSETTO:-0500
TZNAME:EST
DTSTART:20211107T060000
END:STANDARD
END:VTIMEZONE
BEGIN:VEVENT
DTSTART;TZID=America/New_York:20200611T100000
DTEND;TZID=America/New_York:20200611T230000
DTSTAMP:20260421T054524
CREATED:20200602T042535Z
LAST-MODIFIED:20200607T161813Z
UID:35248-1591869600-1591916400@spacepolicyonline.com
SUMMARY:AMERICAN NUCLEAR SOCIETY (ANS) ANNUAL MEETING LEU DISCUSSION\, June 11\, 2020\, virtual
DESCRIPTION:The American Nuclear Society (ANS) will hold its annual meeting virtually from June 8-11\, 2020. \nOn June 11 from 10:00-11:45 am ET\, it will discuss a position statement on the use of Low Enriched Uranium (LEU) for space missions. \nMore information about the overall meeting is on its website and in the program. \nThis specific sessions is described on this website.  It states: \nRecent developments in space nuclear technologies have led to significant debate about the use of Highly Enriched Uranium in space applications. As part of ANS’s role as an advocate for the development and deployment of nuclear technologies that benefit mankind\, the Aerospace Nuclear Science and Technology Division is developing a position statement on the use of Low Enriched Uranium in Space. This position statement will either supplement or replace ANS Position Statement 40\, Space Nuclear Power and Propulsion Systems. \nThis panel session is intended to begin the process of collecting information for incorporation into the draft statement\, which will be presented for feedback at the 2020 Winter Meeting\, with the intention of finalizing the statement by either NETS-2021 or the 2021 Annual Meeting. \nThe panel will consist of two parts. The first half of the panel will be an opportunity for interested parties to make short presentations\, similar to the lightning talk format from NETS-2019. The second half of the panel will be an open discussion. \nThe presentation portion of the panel will be open to anyone with an interest in the topic. Interested presenters will have up to 5 minutes to present a short presentation (no more than three slides). Slots are available on a first come\, first served basis. Anyone wishing to present should send their slides (no more than three) to the Session Organizer\, Dr. Jeffrey King (kingjc@mines.edu) no later than Wednesday June 10th. \nTo join the conversation\, you must be logged in and registered for the meeting.
URL:https://spacepolicyonline.com/events/american-nuclear-society-ans-annual-meeting-leu-discussion-june-11-2020-virtual/
END:VEVENT
END:VCALENDAR