BEGIN:VCALENDAR
VERSION:2.0
PRODID:-//SpacePolicyOnline.com - ECPv6.15.11//NONSGML v1.0//EN
CALSCALE:GREGORIAN
METHOD:PUBLISH
X-WR-CALNAME:SpacePolicyOnline.com
X-ORIGINAL-URL:https://spacepolicyonline.com
X-WR-CALDESC:Events for SpacePolicyOnline.com
REFRESH-INTERVAL;VALUE=DURATION:PT1H
X-Robots-Tag:noindex
X-PUBLISHED-TTL:PT1H
BEGIN:VTIMEZONE
TZID:America/New_York
BEGIN:DAYLIGHT
TZOFFSETFROM:-0500
TZOFFSETTO:-0400
TZNAME:EDT
DTSTART:20250309T070000
END:DAYLIGHT
BEGIN:STANDARD
TZOFFSETFROM:-0400
TZOFFSETTO:-0500
TZNAME:EST
DTSTART:20251102T060000
END:STANDARD
BEGIN:DAYLIGHT
TZOFFSETFROM:-0500
TZOFFSETTO:-0400
TZNAME:EDT
DTSTART:20260308T070000
END:DAYLIGHT
BEGIN:STANDARD
TZOFFSETFROM:-0400
TZOFFSETTO:-0500
TZNAME:EST
DTSTART:20261101T060000
END:STANDARD
BEGIN:DAYLIGHT
TZOFFSETFROM:-0500
TZOFFSETTO:-0400
TZNAME:EDT
DTSTART:20270314T070000
END:DAYLIGHT
BEGIN:STANDARD
TZOFFSETFROM:-0400
TZOFFSETTO:-0500
TZNAME:EST
DTSTART:20271107T060000
END:STANDARD
END:VTIMEZONE
BEGIN:VEVENT
DTSTART;TZID=America/New_York:20260618T070000
DTEND;TZID=America/New_York:20260619T230000
DTSTAMP:20260419T181147
CREATED:20260418T214709Z
LAST-MODIFIED:20260418T214709Z
UID:88376-1781766000-1781910000@spacepolicyonline.com
SUMMARY:APOPHIS T-3 YEARS: KNOWLEDGE OPPS FOR THE SCIENCE OF PLANETARY DEFENSE\, June 18-19\, 2026\, Padua\, Italy
DESCRIPTION:“The Apophis T-3 Years: Knowledge Opportunities for the Science of Planetary Defense” will take place June 18-19\, 2026 at the University of Padua in Padua\, Italy. \nApophis is an asteroid that will come close to — but not collide with — Earth on April 13\, 2029. \nMore information is on the event’s website\, which says: \nThe Apophis T-3 Years: Knowledge Opportunities for the Science of Planetary Defense workshop is scheduled for June 18–19\, 2026\, and will be held at the University of Padua in Padua\, Italy. The workshop will be held in person with opportunities for virtual participation. \nThe workshop will focus on ongoing theoretical modeling of measurable outcomes from the April 2029 safe near-Earth passage of the asteroid Apophis\, measurement implementation from approved missions\, newly funded mission concepts\, international coordination of space operations and Earth-based observations\, and public education. An adjacent workshop dedicated to the European Space Agency RAMSES mission will be held at the same location on June 15–17\, 2026.
URL:https://spacepolicyonline.com/events/apophis-t-3-years-knowledge-opps-for-the-science-of-planetary-defense-june-18-19-2026-padua-italy/
END:VEVENT
END:VCALENDAR