BEGIN:VCALENDAR
VERSION:2.0
PRODID:-//SpacePolicyOnline.com - ECPv6.15.11//NONSGML v1.0//EN
CALSCALE:GREGORIAN
METHOD:PUBLISH
X-WR-CALNAME:SpacePolicyOnline.com
X-ORIGINAL-URL:https://spacepolicyonline.com
X-WR-CALDESC:Events for SpacePolicyOnline.com
REFRESH-INTERVAL;VALUE=DURATION:PT1H
X-Robots-Tag:noindex
X-PUBLISHED-TTL:PT1H
BEGIN:VTIMEZONE
TZID:America/New_York
BEGIN:DAYLIGHT
TZOFFSETFROM:-0500
TZOFFSETTO:-0400
TZNAME:EDT
DTSTART:20210314T070000
END:DAYLIGHT
BEGIN:STANDARD
TZOFFSETFROM:-0400
TZOFFSETTO:-0500
TZNAME:EST
DTSTART:20211107T060000
END:STANDARD
BEGIN:DAYLIGHT
TZOFFSETFROM:-0500
TZOFFSETTO:-0400
TZNAME:EDT
DTSTART:20220313T070000
END:DAYLIGHT
BEGIN:STANDARD
TZOFFSETFROM:-0400
TZOFFSETTO:-0500
TZNAME:EST
DTSTART:20221106T060000
END:STANDARD
BEGIN:DAYLIGHT
TZOFFSETFROM:-0500
TZOFFSETTO:-0400
TZNAME:EDT
DTSTART:20230312T070000
END:DAYLIGHT
BEGIN:STANDARD
TZOFFSETFROM:-0400
TZOFFSETTO:-0500
TZNAME:EST
DTSTART:20231105T060000
END:STANDARD
END:VTIMEZONE
BEGIN:VEVENT
DTSTART;TZID=America/New_York:20220511T070000
DTEND;TZID=America/New_York:20220512T230000
DTSTAMP:20260419T140540
CREATED:20220424T152843Z
LAST-MODIFIED:20220505T212403Z
UID:52751-1652252400-1652396400@spacepolicyonline.com
SUMMARY:APOPHIS T-7 YEARS: KNOWLEGE OPPS FOR THE SCIENCE OF PLANETARY DEFENSE\, May 11-12\, 2022\, virtual
DESCRIPTION:The Lunar and Planetary Institute will hold a virtual conference from May 11-12\, 2022.  (Originally it was May 11-13\, but was shortened by one day.) \nThe topic is: “Apophis T-7 Years: Knowledge Opportunities for the Science of Planetary Defense.” \nMore information is on the event’s website\, which says: \nThis workshop will explore the dynamic details and corresponding science opportunities presented by the April 13\, 2029\, near-miss passage of the asteroid Apophis. Knowledge is the first line of planetary defense. The 2029 Apophis encounter is a once-per-thousand-year opportunity to investigate an asteroid as large as 350 meters passing within 6 Earth-radii. Time is of the essence as we have less than a decade to plan Earth-based and possible in situ missions whose measurements can deliver unprecedented detailed knowledge on the physical nature of Apophis as the prototype example (poster child) of potentially hazardous asteroids.
URL:https://spacepolicyonline.com/events/apophis-t-7-years-knowlege-opps-for-the-science-of-planetary-defense-may-11-12-2022-virtual/
END:VEVENT
END:VCALENDAR