BEGIN:VCALENDAR
VERSION:2.0
PRODID:-//SpacePolicyOnline.com - ECPv6.15.11//NONSGML v1.0//EN
CALSCALE:GREGORIAN
METHOD:PUBLISH
X-WR-CALNAME:SpacePolicyOnline.com
X-ORIGINAL-URL:https://spacepolicyonline.com
X-WR-CALDESC:Events for SpacePolicyOnline.com
REFRESH-INTERVAL;VALUE=DURATION:PT1H
X-Robots-Tag:noindex
X-PUBLISHED-TTL:PT1H
BEGIN:VTIMEZONE
TZID:America/New_York
BEGIN:DAYLIGHT
TZOFFSETFROM:-0500
TZOFFSETTO:-0400
TZNAME:EDT
DTSTART:20220313T070000
END:DAYLIGHT
BEGIN:STANDARD
TZOFFSETFROM:-0400
TZOFFSETTO:-0500
TZNAME:EST
DTSTART:20221106T060000
END:STANDARD
BEGIN:DAYLIGHT
TZOFFSETFROM:-0500
TZOFFSETTO:-0400
TZNAME:EDT
DTSTART:20230312T070000
END:DAYLIGHT
BEGIN:STANDARD
TZOFFSETFROM:-0400
TZOFFSETTO:-0500
TZNAME:EST
DTSTART:20231105T060000
END:STANDARD
BEGIN:DAYLIGHT
TZOFFSETFROM:-0500
TZOFFSETTO:-0400
TZNAME:EDT
DTSTART:20240310T070000
END:DAYLIGHT
BEGIN:STANDARD
TZOFFSETFROM:-0400
TZOFFSETTO:-0500
TZNAME:EST
DTSTART:20241103T060000
END:STANDARD
END:VTIMEZONE
BEGIN:VEVENT
DTSTART;TZID=America/New_York:20231123T150000
DTEND;TZID=America/New_York:20231123T230000
DTSTAMP:20260421T065549
CREATED:20231120T182833Z
LAST-MODIFIED:20231123T190332Z
UID:66708-1700751600-1700780400@spacepolicyonline.com
SUMMARY:ARIANE 6 CORE STAGE FULL DURATION ENGINE FIRING\, Nov 23\, 2023\, Kourou\, French Guiane\, 3:00 pm ET (livestreamed)
DESCRIPTION:Update\, November 23\, 2:00 pm ET:  ESA just posted that they are ahead of schedule and the hot fire will begin 10 minutes early at 17:00 local time (3:00 pm ET)\, with the livestream beginning at 2:40 pm ET. \n\nNew times\, we are 30 minutes ahead of schedule:\n📺Livestream starting at 20:40 CET (19:40 GMT\, 16:40 local)\n🔥 Vulcain 2.1 engine ignition now scheduled at 21:00 CET (20:00 GMT\, 17:00 local) \n— ESA Space Transport (@ESA_transport) November 23\, 2023 \n\nOriginal Entry: The European Space Agency plans a full-duration (8 minute) firing of the engine for the core stage of their new Ariane 6 rocket on November 23\, 2023 at their launch site in Kourou\, French Guiana. \nThe test has been rescheduled many times\, but on November 20 they confirmed they are still planning it for November 23 at 17:10 local time (3:10 pm Eastern Standard Time).  It will be livestreamed on ESA TV. \n\n📺 Watch live: #Ariane6 launch rehearsal with 8-minute core stage engine firing. \n📅 23 November 20:10 GMT (21:10 CET\, 17:10 local time) on #ESAWebTV: https://t.co/QJ5MWezpMp \nLearn more about the test: https://t.co/JiRNF5PmTq \nHere’s the Vulcain 2.1 engine firing last time 🔥👀 pic.twitter.com/ubTIGbYdN2 \n— ESA Space Transport (@ESA_transport) November 20\, 2023 \n \n 
URL:https://spacepolicyonline.com/events/ariane-6-core-stage-full-duration-engine-firing-nov-23-2023-kourou-french-guiane-310-pm-et/
END:VEVENT
END:VCALENDAR