BEGIN:VCALENDAR
VERSION:2.0
PRODID:-//SpacePolicyOnline.com - ECPv6.15.11//NONSGML v1.0//EN
CALSCALE:GREGORIAN
METHOD:PUBLISH
X-WR-CALNAME:SpacePolicyOnline.com
X-ORIGINAL-URL:https://spacepolicyonline.com
X-WR-CALDESC:Events for SpacePolicyOnline.com
REFRESH-INTERVAL;VALUE=DURATION:PT1H
X-Robots-Tag:noindex
X-PUBLISHED-TTL:PT1H
BEGIN:VTIMEZONE
TZID:America/New_York
BEGIN:DAYLIGHT
TZOFFSETFROM:-0500
TZOFFSETTO:-0400
TZNAME:EDT
DTSTART:20210314T070000
END:DAYLIGHT
BEGIN:STANDARD
TZOFFSETFROM:-0400
TZOFFSETTO:-0500
TZNAME:EST
DTSTART:20211107T060000
END:STANDARD
BEGIN:DAYLIGHT
TZOFFSETFROM:-0500
TZOFFSETTO:-0400
TZNAME:EDT
DTSTART:20220313T070000
END:DAYLIGHT
BEGIN:STANDARD
TZOFFSETFROM:-0400
TZOFFSETTO:-0500
TZNAME:EST
DTSTART:20221106T060000
END:STANDARD
BEGIN:DAYLIGHT
TZOFFSETFROM:-0500
TZOFFSETTO:-0400
TZNAME:EDT
DTSTART:20230312T070000
END:DAYLIGHT
BEGIN:STANDARD
TZOFFSETFROM:-0400
TZOFFSETTO:-0500
TZNAME:EST
DTSTART:20231105T060000
END:STANDARD
END:VTIMEZONE
BEGIN:VEVENT
DTSTART;TZID=America/New_York:20220425T173000
DTEND;TZID=America/New_York:20220425T230000
DTSTAMP:20260419T100043
CREATED:20220425T155836Z
LAST-MODIFIED:20220425T155836Z
UID:52781-1650907800-1650927600@spacepolicyonline.com
SUMMARY:ARTEMIS I BEGINS ROLL-BACK TO VAB FOR FIXES\, Apr 25\, 2022\, KSC\, 5:30 pm ET
DESCRIPTION:The Artemis I Space Launch System rocket with an Orion spacecraft on top — the “stack” — will begin its trip back to the Vehicle Assembly Building (VAB) on April 25\, 2022 at 5:30 pm ET. The four-mile trip atop the Crawler-Transporter takes 10 hours or more. \nNASA has been trying to conduct the Wet Dress Rehearsal test in preparation for the launch of Artemis I\, but after three tries decided to take the stack back to the VAB to fix a failed helium check valve in the upper stage and a hydrogen leak in the core stage.  It rolled out to Launch Complex 39-B on March 17-18. \nVideo of the roll-back will be available on Kennedy Space Center’s YouTube channel. \n  \n 
URL:https://spacepolicyonline.com/events/artemis-i-begins-roll-back-to-vab-for-fixes-apr-25-2022-ksc-530-pm-et/
END:VEVENT
END:VCALENDAR