BEGIN:VCALENDAR
VERSION:2.0
PRODID:-//SpacePolicyOnline.com - ECPv6.15.11//NONSGML v1.0//EN
CALSCALE:GREGORIAN
METHOD:PUBLISH
X-WR-CALNAME:SpacePolicyOnline.com
X-ORIGINAL-URL:https://spacepolicyonline.com
X-WR-CALDESC:Events for SpacePolicyOnline.com
REFRESH-INTERVAL;VALUE=DURATION:PT1H
X-Robots-Tag:noindex
X-PUBLISHED-TTL:PT1H
BEGIN:VTIMEZONE
TZID:America/New_York
BEGIN:DAYLIGHT
TZOFFSETFROM:-0500
TZOFFSETTO:-0400
TZNAME:EDT
DTSTART:20200308T070000
END:DAYLIGHT
BEGIN:STANDARD
TZOFFSETFROM:-0400
TZOFFSETTO:-0500
TZNAME:EST
DTSTART:20201101T060000
END:STANDARD
BEGIN:DAYLIGHT
TZOFFSETFROM:-0500
TZOFFSETTO:-0400
TZNAME:EDT
DTSTART:20210314T070000
END:DAYLIGHT
BEGIN:STANDARD
TZOFFSETFROM:-0400
TZOFFSETTO:-0500
TZNAME:EST
DTSTART:20211107T060000
END:STANDARD
BEGIN:DAYLIGHT
TZOFFSETFROM:-0500
TZOFFSETTO:-0400
TZNAME:EDT
DTSTART:20220313T070000
END:DAYLIGHT
BEGIN:STANDARD
TZOFFSETFROM:-0400
TZOFFSETTO:-0500
TZNAME:EST
DTSTART:20221106T060000
END:STANDARD
END:VTIMEZONE
BEGIN:VEVENT
DTSTART;TZID=America/New_York:20211115T073000
DTEND;TZID=America/New_York:20211117T230000
DTSTAMP:20260420T053421
CREATED:20210410T184712Z
LAST-MODIFIED:20211005T205659Z
UID:42950-1636961400-1637190000@spacepolicyonline.com
SUMMARY:ASCEND 2021--Week 2 (AIAA)\, Nov 15-17\, 2021\, Las Vegas\, DC\, and virtual
DESCRIPTION:Update\, October 5\, 2021:  The event’s website says: \n2021 ASCEND Features \n\n\nKari Byron is returning as emcee! The Mythbusters and Crash Test World host will join us in person in Las Vegas\, 15-17 November. \n\n\nJust back from her suborbital space mission\, Sirisha Bandla\, Vice President of Government Affairs for Virgin Galactic\, will join us in person in Las Vegas to share her first-hand account of space travel as a citizen astronaut aboard her company’s first fully crewed spaceflight #Unity22 this summer. \n\n\nFor a day\, ASCEND goes to Washington\, D.C. The East Coast Satellite Event on 15 November will feature an in-person panel of national policymakers discussing policy for growing commercial space opportunities\, as well as a live feed from the ASCEND Las Vegas stage. Speakers include: Rep. Don Beyer (D-VA)\, U.S. House Space and Aeronautics Subcommittee; Mike Gold\, Redwire Space; Tom Hammond\, U.S. House Space and Aeronautics Subcommittee; Ezinne Uzo-Okoro\, White House Office of Science and Technology Policy; Tim Dominick\, Chair\, AIAA Public Policy Committee. \n\n\nThe 24th AIAA International Space Planes and Hypersonic Systems and Technologies Conference will be held 15-17 November (in person) in Las Vegas as part of the 2021 ASCEND experience. \n\n\nCaesars Forum in Las Vegas is the center of the 2021 ASCEND universe for in-person sessions\, 15-17 November. \n\n\nAll ASCEND content will be streamed during 8-10 and 15-17 November\, and available on demand online during and after the event for attendees. \n\n\n  \nUpdate\, September 10\, 2021:  The AIAA website now describes this meeting as taking place “live” on November 15-17 in Las Vegas\, “live” in Washington DC on November 15\, and “online everywhere” November 8-10 and November 15-17. \n \nOriginal Entry: The American Institute of Aeronautics and Astronautics (AIAA) will hold its second ASCEND conference from November 15-17\, 2021 as a hybrid event — in Las Vegas\, Nevada and virtually. \nASCEND means “Accelerating Space Commerce\, Exploration\, and New Discovery.” \nAIAA’s 24th International Space Planes and Hypersonic Systems and Technologies Conference will take place as part of ASCEND 2021. \nMore information is on the events’ website. \n 
URL:https://spacepolicyonline.com/events/ascend-2021-aiaa-nov-15-17-2021-las-vegas-and-virtual/
END:VEVENT
END:VCALENDAR