BEGIN:VCALENDAR
VERSION:2.0
PRODID:-//SpacePolicyOnline.com - ECPv6.15.11//NONSGML v1.0//EN
CALSCALE:GREGORIAN
METHOD:PUBLISH
X-WR-CALNAME:SpacePolicyOnline.com
X-ORIGINAL-URL:https://spacepolicyonline.com
X-WR-CALDESC:Events for SpacePolicyOnline.com
REFRESH-INTERVAL;VALUE=DURATION:PT1H
X-Robots-Tag:noindex
X-PUBLISHED-TTL:PT1H
BEGIN:VTIMEZONE
TZID:America/New_York
BEGIN:DAYLIGHT
TZOFFSETFROM:-0500
TZOFFSETTO:-0400
TZNAME:EDT
DTSTART:20200308T070000
END:DAYLIGHT
BEGIN:STANDARD
TZOFFSETFROM:-0400
TZOFFSETTO:-0500
TZNAME:EST
DTSTART:20201101T060000
END:STANDARD
BEGIN:DAYLIGHT
TZOFFSETFROM:-0500
TZOFFSETTO:-0400
TZNAME:EDT
DTSTART:20210314T070000
END:DAYLIGHT
BEGIN:STANDARD
TZOFFSETFROM:-0400
TZOFFSETTO:-0500
TZNAME:EST
DTSTART:20211107T060000
END:STANDARD
BEGIN:DAYLIGHT
TZOFFSETFROM:-0500
TZOFFSETTO:-0400
TZNAME:EDT
DTSTART:20220313T070000
END:DAYLIGHT
BEGIN:STANDARD
TZOFFSETFROM:-0400
TZOFFSETTO:-0500
TZNAME:EST
DTSTART:20221106T060000
END:STANDARD
END:VTIMEZONE
BEGIN:VEVENT
DTSTART;TZID=America/New_York:20210615T100000
DTEND;TZID=America/New_York:20210615T230000
DTSTAMP:20260420T010020
CREATED:20210601T153511Z
LAST-MODIFIED:20210601T153511Z
UID:44443-1623751200-1623798000@spacepolicyonline.com
SUMMARY:ASCENDxSUMMIT: ACCELERATING PATHWAYS TO SPACE (AIAA)\, June 15\, 2021\, 10:00 am-1:30 pm ET
DESCRIPTION:The American Institute of Aeronautics and Astronautics (AIAA) will hold a webinar on June 15\, 2021 from 10:00 am – 1:30 pm ET as part of its ASCEND series.  The second ASCEND conference is scheduled for November 15-17\, 2021 at Caesars Forum in Las Vegas as well as online. \nThis webinar\, ASCENDxSUMMIT: Accelerating Pathways to Space\,  is a “three-hour crash course in how fundamental systems are being transformed fast to help humans adapt to life in space.” \nMore information and registration instructions are on the event’s website.
URL:https://spacepolicyonline.com/events/ascendxsummit-accelerating-pathways-to-space-aiaa-june-15-2021-1000-am-130-pm-et/
END:VEVENT
END:VCALENDAR