BEGIN:VCALENDAR
VERSION:2.0
PRODID:-//SpacePolicyOnline.com - ECPv6.15.11//NONSGML v1.0//EN
CALSCALE:GREGORIAN
METHOD:PUBLISH
X-WR-CALNAME:SpacePolicyOnline.com
X-ORIGINAL-URL:https://spacepolicyonline.com
X-WR-CALDESC:Events for SpacePolicyOnline.com
REFRESH-INTERVAL;VALUE=DURATION:PT1H
X-Robots-Tag:noindex
X-PUBLISHED-TTL:PT1H
BEGIN:VTIMEZONE
TZID:America/New_York
BEGIN:DAYLIGHT
TZOFFSETFROM:-0500
TZOFFSETTO:-0400
TZNAME:EDT
DTSTART:20200308T070000
END:DAYLIGHT
BEGIN:STANDARD
TZOFFSETFROM:-0400
TZOFFSETTO:-0500
TZNAME:EST
DTSTART:20201101T060000
END:STANDARD
BEGIN:DAYLIGHT
TZOFFSETFROM:-0500
TZOFFSETTO:-0400
TZNAME:EDT
DTSTART:20210314T070000
END:DAYLIGHT
BEGIN:STANDARD
TZOFFSETFROM:-0400
TZOFFSETTO:-0500
TZNAME:EST
DTSTART:20211107T060000
END:STANDARD
BEGIN:DAYLIGHT
TZOFFSETFROM:-0500
TZOFFSETTO:-0400
TZNAME:EDT
DTSTART:20220313T070000
END:DAYLIGHT
BEGIN:STANDARD
TZOFFSETFROM:-0400
TZOFFSETTO:-0500
TZNAME:EST
DTSTART:20221106T060000
END:STANDARD
END:VTIMEZONE
BEGIN:VEVENT
DTSTART;TZID=America/New_York:20210216T130000
DTEND;TZID=America/New_York:20210216T230000
DTSTAMP:20260419T191059
CREATED:20210212T221620Z
LAST-MODIFIED:20210212T221630Z
UID:41532-1613480400-1613516400@spacepolicyonline.com
SUMMARY:ASPIRATION AND RESILIENCE: THE NEW SPACE AGE (UAE/THE HILL)\, Feb 16\, 2021\, virtual\, 1:00 pm ET
DESCRIPTION:The Hill newspaper will hold a virtual event sponsored by the Embassy of the United Arab Emirates on February 16\, 2021 at 1:00 pm ET. \nThe topic is: Aspiration and Resilience: The New Space Age. \nSpeakers are: \n\nJessica Watkins\, PhD\, Astronaut\, NASA\nSarah Al Amiri\, UAE Minister of State for Advanced Technology; Chairwoman\, UAE Space Agency\nAvigdor ‘Avi’ Blasberger\, Director-General\, Israel Space Agency\nRep. Frank Lucas (R-OK)\, Ranking Member\, Committee on Science\, Space & Technology\nDave Brain\, Associate Professor\, Laboratory for Atmospheric and Space Physics Department of Astrophysical and Planetary Sciences\, University of Colorado – Boulder\nPhilip Christensen\, Regents Professor\, The Ed and Helen Korrick Professor\, School of Earth and Space Exploration\, Arizona State University\nNoora AlSaeed\, PhD Candidate\, Department of Astrophysics and Planetary Sciences\, University of Colorado – Boulder\n\n\nSteve Clemons\, Editor-at-Large\, The Hill\, moderator\n\nMore information is on The Hill’s website.
URL:https://spacepolicyonline.com/events/aspiration-and-resilience-the-new-space-age-uae-the-hill-feb-16-2021-virtual-100-pm-et/
END:VEVENT
END:VCALENDAR