BEGIN:VCALENDAR
VERSION:2.0
PRODID:-//SpacePolicyOnline.com - ECPv6.15.11//NONSGML v1.0//EN
CALSCALE:GREGORIAN
METHOD:PUBLISH
X-WR-CALNAME:SpacePolicyOnline.com
X-ORIGINAL-URL:https://spacepolicyonline.com
X-WR-CALDESC:Events for SpacePolicyOnline.com
REFRESH-INTERVAL;VALUE=DURATION:PT1H
X-Robots-Tag:noindex
X-PUBLISHED-TTL:PT1H
BEGIN:VTIMEZONE
TZID:America/New_York
BEGIN:DAYLIGHT
TZOFFSETFROM:-0500
TZOFFSETTO:-0400
TZNAME:EDT
DTSTART:20210314T070000
END:DAYLIGHT
BEGIN:STANDARD
TZOFFSETFROM:-0400
TZOFFSETTO:-0500
TZNAME:EST
DTSTART:20211107T060000
END:STANDARD
BEGIN:DAYLIGHT
TZOFFSETFROM:-0500
TZOFFSETTO:-0400
TZNAME:EDT
DTSTART:20220313T070000
END:DAYLIGHT
BEGIN:STANDARD
TZOFFSETFROM:-0400
TZOFFSETTO:-0500
TZNAME:EST
DTSTART:20221106T060000
END:STANDARD
BEGIN:DAYLIGHT
TZOFFSETFROM:-0500
TZOFFSETTO:-0400
TZNAME:EDT
DTSTART:20230312T070000
END:DAYLIGHT
BEGIN:STANDARD
TZOFFSETFROM:-0400
TZOFFSETTO:-0500
TZNAME:EST
DTSTART:20231105T060000
END:STANDARD
END:VTIMEZONE
BEGIN:VEVENT
DTSTART;TZID=America/New_York:20220420T150000
DTEND;TZID=America/New_York:20220420T230000
DTSTAMP:20260419T112530
CREATED:20220419T173133Z
LAST-MODIFIED:20220419T201015Z
UID:52614-1650466800-1650495600@spacepolicyonline.com
SUMMARY:ASTROBOTIC UNVEILS PEREGRINE LUNAR LANDER\, Apr 20\, 2022\, Pittsburgh\, PA\, 3:00-3:30 pm ET
DESCRIPTION:Astrobotic will unveil its Peregrine lunar lander on April 20\, 2022 at an event from 3:00-3:30 pm ET that features NASA Administrator Bill Nelson. It will be livestreamed on YouTube. \nVisit the company’s website for more information. \nParticipants include: \n\nCEO\, Astrobotic\, John Thornton\nFounding Board Chair\, Keystone Space Collaborative\, Justine Kasznica\nPA-8th\, Congressman Matt Cartwright\nNASA Administrator\, Senator Bill Nelson\nNASA Associate Administrator for the Science Mission Directorate\, Dr. Thomas Zurbuchen\nNASA Associate Administrator for Space Technology Mission Directorate\, Mr. James L. Reuter
URL:https://spacepolicyonline.com/events/astrobotic-unveils-peregrine-lunar-lander-apr-20-2022-pittsburgh-pa-300-330-pm-et/
END:VEVENT
END:VCALENDAR