BEGIN:VCALENDAR
VERSION:2.0
PRODID:-//SpacePolicyOnline.com - ECPv6.15.11//NONSGML v1.0//EN
CALSCALE:GREGORIAN
METHOD:PUBLISH
X-WR-CALNAME:SpacePolicyOnline.com
X-ORIGINAL-URL:https://spacepolicyonline.com
X-WR-CALDESC:Events for SpacePolicyOnline.com
REFRESH-INTERVAL;VALUE=DURATION:PT1H
X-Robots-Tag:noindex
X-PUBLISHED-TTL:PT1H
BEGIN:VTIMEZONE
TZID:America/New_York
BEGIN:DAYLIGHT
TZOFFSETFROM:-0500
TZOFFSETTO:-0400
TZNAME:EDT
DTSTART:20210314T070000
END:DAYLIGHT
BEGIN:STANDARD
TZOFFSETFROM:-0400
TZOFFSETTO:-0500
TZNAME:EST
DTSTART:20211107T060000
END:STANDARD
BEGIN:DAYLIGHT
TZOFFSETFROM:-0500
TZOFFSETTO:-0400
TZNAME:EDT
DTSTART:20220313T070000
END:DAYLIGHT
BEGIN:STANDARD
TZOFFSETFROM:-0400
TZOFFSETTO:-0500
TZNAME:EST
DTSTART:20221106T060000
END:STANDARD
BEGIN:DAYLIGHT
TZOFFSETFROM:-0500
TZOFFSETTO:-0400
TZNAME:EDT
DTSTART:20230312T070000
END:DAYLIGHT
BEGIN:STANDARD
TZOFFSETFROM:-0400
TZOFFSETTO:-0500
TZNAME:EST
DTSTART:20231105T060000
END:STANDARD
END:VTIMEZONE
BEGIN:VEVENT
DTSTART;TZID=America/New_York:20220125T070000
DTEND;TZID=America/New_York:20220126T170000
DTSTAMP:20260420T045601
CREATED:20220122T155548Z
LAST-MODIFIED:20220122T155548Z
UID:49907-1643094000-1643216400@spacepolicyonline.com
SUMMARY:ASTRONOMY AND ASTROPHYSICS ADVISORY COMMITTEE (AAAC)\, Jan 25-26\, 2022\, virtual\, 11:00 am-5:00 pm ET
DESCRIPTION:The NSF-NASA-DOE Astronomy and Astrophysics Advisory Committee (AAAC) will meet virtually January 25-26\, 2022 from 11:00 am – 5:00 pm ET each day. \nThe agenda is posted on the committee’s website. \nMore information including a registration link are on the meeting’s website.
URL:https://spacepolicyonline.com/events/astronomy-and-astrophysics-advisory-committee-aaac-jan-25-26-2022-virtual-1100-am-500-pm-et/
END:VEVENT
END:VCALENDAR