BEGIN:VCALENDAR
VERSION:2.0
PRODID:-//SpacePolicyOnline.com - ECPv6.15.11//NONSGML v1.0//EN
CALSCALE:GREGORIAN
METHOD:PUBLISH
X-WR-CALNAME:SpacePolicyOnline.com
X-ORIGINAL-URL:https://spacepolicyonline.com
X-WR-CALDESC:Events for SpacePolicyOnline.com
REFRESH-INTERVAL;VALUE=DURATION:PT1H
X-Robots-Tag:noindex
X-PUBLISHED-TTL:PT1H
BEGIN:VTIMEZONE
TZID:America/New_York
BEGIN:DAYLIGHT
TZOFFSETFROM:-0500
TZOFFSETTO:-0400
TZNAME:EDT
DTSTART:20180311T070000
END:DAYLIGHT
BEGIN:STANDARD
TZOFFSETFROM:-0400
TZOFFSETTO:-0500
TZNAME:EST
DTSTART:20181104T060000
END:STANDARD
BEGIN:DAYLIGHT
TZOFFSETFROM:-0500
TZOFFSETTO:-0400
TZNAME:EDT
DTSTART:20190310T070000
END:DAYLIGHT
BEGIN:STANDARD
TZOFFSETFROM:-0400
TZOFFSETTO:-0500
TZNAME:EST
DTSTART:20191103T060000
END:STANDARD
BEGIN:DAYLIGHT
TZOFFSETFROM:-0500
TZOFFSETTO:-0400
TZNAME:EDT
DTSTART:20200308T070000
END:DAYLIGHT
BEGIN:STANDARD
TZOFFSETFROM:-0400
TZOFFSETTO:-0500
TZNAME:EST
DTSTART:20201101T060000
END:STANDARD
END:VTIMEZONE
BEGIN:VEVENT
DTSTART;TZID=America/New_York:20190926T070000
DTEND;TZID=America/New_York:20190927T230000
DTSTAMP:20260422T184521
CREATED:20190822T141222Z
LAST-MODIFIED:20190925T155851Z
UID:28355-1569481200-1569625200@spacepolicyonline.com
SUMMARY:ASTRONOMY AND ASTROPHYSICS ADVISORY COMMITTEE (AAAC)\, Sept 26-27\, 2019\, Alexandria\, VA
DESCRIPTION:The NSF-NASA-DOE Astronomy and Astrophysics Advisory Committee (AAAC) will meet from September 26-27\, 2019 at NSF headquarters\, 2415 Eisenhower Ave.\, Alexandria\, VA.  The meeting on September 26 is 9:00 am – 5:00 pm and on September 27 is 9:00 am – 12:00 pm ET. \nThe agenda is posted on the committee’s website. \nMore information is in the Federal Register notice\, which is reproduced below. \nAstronomy and Astrophysics Advisory Committee; Notice of Meeting\n\n    In accordance with the Federal Advisory Committee Act (Pub. L. 92-\n463\, as amended)\, the National Science Foundation (NSF) announces the \nfollowing meeting:\n    Name and Committee Code: Astronomy and Astrophysics Advisory \nCommittee (#13883).\n    Date and Time: September 26\, 2019; 9:00 a.m.-5:00 p.m.; September \n27\, 2019; 9:00 a.m.-12:00 p.m.\n    Place: National Science Foundation\, 2415 Eisenhower Avenue\, \nAlexandria\, VA 22314\, Room E2020.\n    Type of Meeting: Open.\n    Attendance information for the meeting will be forthcoming on the \nwebsite: https://www.nsf.gov/mps/ast/aaac.jsp.\n    Contact Person: Dr. Christopher Davis\, Program Director\, Division \nof Astronomical Sciences\, Suite W 9136; National Science Foundation\, \n2415 Eisenhower Avenue\, Alexandria\, VA 22314; Telephone: 703-292-4910.\n    Purpose of Meeting: To provide advice and recommendations to the \nNational Science Foundation (NSF)\, the National Aeronautics and Space \nAdministration (NASA) and the U.S. Department of Energy (DOE) on issues \nwithin the field of astronomy and astrophysics that are of mutual \ninterest and concern to the agencies.\n    Agenda: To hear presentations of current programming by \nrepresentatives from NSF\, NASA\, DOE and other agencies relevant to \nastronomy and astrophysics; to discuss current and potential areas of \ncooperation between the agencies; to formulate recommendations for \ncontinued and new areas of cooperation and mechanisms for achieving \nthem.
URL:https://spacepolicyonline.com/events/astronomy-and-astrophysics-advisory-committee-aaac-sept-26-27-2019-alexandria-va/
END:VEVENT
END:VCALENDAR