BEGIN:VCALENDAR
VERSION:2.0
PRODID:-//SpacePolicyOnline.com - ECPv6.15.11//NONSGML v1.0//EN
CALSCALE:GREGORIAN
METHOD:PUBLISH
X-WR-CALNAME:SpacePolicyOnline.com
X-ORIGINAL-URL:https://spacepolicyonline.com
X-WR-CALDESC:Events for SpacePolicyOnline.com
REFRESH-INTERVAL;VALUE=DURATION:PT1H
X-Robots-Tag:noindex
X-PUBLISHED-TTL:PT1H
BEGIN:VTIMEZONE
TZID:America/New_York
BEGIN:DAYLIGHT
TZOFFSETFROM:-0500
TZOFFSETTO:-0400
TZNAME:EDT
DTSTART:20200308T070000
END:DAYLIGHT
BEGIN:STANDARD
TZOFFSETFROM:-0400
TZOFFSETTO:-0500
TZNAME:EST
DTSTART:20201101T060000
END:STANDARD
BEGIN:DAYLIGHT
TZOFFSETFROM:-0500
TZOFFSETTO:-0400
TZNAME:EDT
DTSTART:20210314T070000
END:DAYLIGHT
BEGIN:STANDARD
TZOFFSETFROM:-0400
TZOFFSETTO:-0500
TZNAME:EST
DTSTART:20211107T060000
END:STANDARD
BEGIN:DAYLIGHT
TZOFFSETFROM:-0500
TZOFFSETTO:-0400
TZNAME:EDT
DTSTART:20220313T070000
END:DAYLIGHT
BEGIN:STANDARD
TZOFFSETFROM:-0400
TZOFFSETTO:-0500
TZNAME:EST
DTSTART:20221106T060000
END:STANDARD
END:VTIMEZONE
BEGIN:VEVENT
DTSTART;TZID=America/New_York:20210928T070000
DTEND;TZID=America/New_York:20210929T230000
DTSTAMP:20260419T135112
CREATED:20210731T123509Z
LAST-MODIFIED:20210731T123509Z
UID:45786-1632812400-1632956400@spacepolicyonline.com
SUMMARY:ASTRONOMY AND ASTROPHYSICS ADVISORY COMMITTEE (AAAC)\, Sept 28-29\, 2021\, virtual\, 10:00 am-4:00 pm ET
DESCRIPTION:The NSF-NASA-DOE Astronomy and Astrophysics Advisory Committee (AAAC) will meet September 28-29\, 2021 via Zoom from 10:00 am – 4:00 pm ET each day. \nMore information is in the Federal Register announcement\, which is reproduced below: \n\nNATIONAL SCIENCE FOUNDATION\n\n\nAstronomy and Astrophysics Advisory Committee Notice of Meeting\n\n    In accordance with the Federal Advisory Committee Act (Pub.\, L. 92-\n463\, as amended)\, the National Science Foundation (NSF) announces the \nfollowing meeting:\n\n[[Page 40882]]\n\n\nNAME AND COMMITTEE CODE:  Astronomy and Astrophysics Advisory Committee \n(#13883) (Zoom Videoconference).\n\nDATE AND TIME: \n    September 28\, 2021; 10:00 a.m.-4:00 p.m.\n    September 29\, 2021\, 10:00 a.m.-4:00 p.m.\n\nPLACE:  National Science Foundation\, 2415 Eisenhower Avenue\, \nAlexandria\, VA 22314 (Zoom Videoconference).\n    Attendance information for the meeting will be forthcoming on the \nwebsite: https://www.nsf.gov/mps/ast/aaac.jsp.\n\nTYPE OF MEETING:  Open.\n\nCONTACT PERSON:  Dr. Martin Still\, Program Director\, Division of \nAstronomical Sciences\, Suite W 9188\, National Science Foundation\, 2415 \nEisenhower Avenue\, Alexandria\, VA 22314; Telephone: 703-292-4290.\n\nPURPOSE OF MEETING:  To provide advice and recommendations to the \nNational Science Foundation (NSF)\, the National Aeronautics and Space \nAdministration (NASA) and the U.S. Department of Energy (DOE) on issues \nwithin the field of astronomy and astrophysics that are of mutual \ninterest and concern to the agencies.\n\nAGENDA: To hear presentations of current programming by representatives \nfrom NSF\, NASA\, DOE and other agencies relevant to astronomy and \nastrophysics; to discuss current and potential areas of cooperation \nbetween the agencies; to formulate recommendations for continued and \nnew areas of cooperation and mechanisms for achieving them.
URL:https://spacepolicyonline.com/events/astronomy-and-astrophysics-advisory-committee-aaac-sept-28-29-2021-virtual-1000-am-400-pm-et/
END:VEVENT
END:VCALENDAR